BEGIN:VCALENDAR
VERSION:2.0
PRODID:-//Autarkia - Green World Tour - ECPv6.15.20//NONSGML v1.0//EN
CALSCALE:GREGORIAN
METHOD:PUBLISH
X-ORIGINAL-URL:https://www.autarkia.info
X-WR-CALDESC:Veranstaltungen für Autarkia - Green World Tour
REFRESH-INTERVAL;VALUE=DURATION:PT1H
X-Robots-Tag:noindex
X-PUBLISHED-TTL:PT1H
BEGIN:VTIMEZONE
TZID:Europe/Berlin
BEGIN:DAYLIGHT
TZOFFSETFROM:+0100
TZOFFSETTO:+0200
TZNAME:CEST
DTSTART:20180325T010000
END:DAYLIGHT
BEGIN:STANDARD
TZOFFSETFROM:+0200
TZOFFSETTO:+0100
TZNAME:CET
DTSTART:20181028T010000
END:STANDARD
BEGIN:DAYLIGHT
TZOFFSETFROM:+0100
TZOFFSETTO:+0200
TZNAME:CEST
DTSTART:20190331T010000
END:DAYLIGHT
BEGIN:STANDARD
TZOFFSETFROM:+0200
TZOFFSETTO:+0100
TZNAME:CET
DTSTART:20191027T010000
END:STANDARD
BEGIN:DAYLIGHT
TZOFFSETFROM:+0100
TZOFFSETTO:+0200
TZNAME:CEST
DTSTART:20200329T010000
END:DAYLIGHT
BEGIN:STANDARD
TZOFFSETFROM:+0200
TZOFFSETTO:+0100
TZNAME:CET
DTSTART:20201025T010000
END:STANDARD
END:VTIMEZONE
BEGIN:VEVENT
DTSTART;TZID=Europe/Berlin:20190913T080000
DTEND;TZID=Europe/Berlin:20190913T090000
DTSTAMP:20260422T014456
CREATED:20190912T092235Z
LAST-MODIFIED:20190912T095337Z
UID:18974-1568361600-1568365200@www.autarkia.info
SUMMARY:Warum mein Stromversorger mir gehören sollte
DESCRIPTION:„Unser Strom kommt aus der Steckdose“ – so einfach es in unserem Alltag ist\, so einfach ist es für die Energiewende leider nicht. Glücklicherweise machen sich mittlerweile viele Menschen Gedanken\, was hinter der Steckdose passiert. Es gibt hunderte Stromanbieter am deutschen Strommarkt – aber Stromanbieter ist nicht gleich Stromanbieter. Ein Ökostromprodukt bietet heute jeder an\, selbst Kohle- und Atomkonzerne. Aber es gibt noch viel mehr\, was jeder einzelne Stromverbraucher tun kann. Die mehr als 39.000 Mitglieder der Energiegenossenschaft Prokon zum Beispiel sind als Miteigentümer der Genossenschaft ihr eigener Stromanbieter geworden. Lassen Sie sich inspirieren\, welche Möglichkeiten jeder von uns hat\, eine nachhaltige Energiezukunft selbst in die Hand zu nehmen.
URL:https://www.autarkia.info/event/prokon/
LOCATION:Erlebnis Stage für Groß und Klein
END:VEVENT
END:VCALENDAR