BEGIN:VCALENDAR
VERSION:2.0
PRODID:-//Autarkia - Green World Tour - ECPv6.15.20//NONSGML v1.0//EN
CALSCALE:GREGORIAN
METHOD:PUBLISH
X-WR-CALNAME:Autarkia - Green World Tour
X-ORIGINAL-URL:https://www.autarkia.info
X-WR-CALDESC:Veranstaltungen für Autarkia - Green World Tour
REFRESH-INTERVAL;VALUE=DURATION:PT1H
X-Robots-Tag:noindex
X-PUBLISHED-TTL:PT1H
BEGIN:VTIMEZONE
TZID:Europe/Berlin
BEGIN:DAYLIGHT
TZOFFSETFROM:+0100
TZOFFSETTO:+0200
TZNAME:CEST
DTSTART:20190331T010000
END:DAYLIGHT
BEGIN:STANDARD
TZOFFSETFROM:+0200
TZOFFSETTO:+0100
TZNAME:CET
DTSTART:20191027T010000
END:STANDARD
BEGIN:DAYLIGHT
TZOFFSETFROM:+0100
TZOFFSETTO:+0200
TZNAME:CEST
DTSTART:20200329T010000
END:DAYLIGHT
BEGIN:STANDARD
TZOFFSETFROM:+0200
TZOFFSETTO:+0100
TZNAME:CET
DTSTART:20201025T010000
END:STANDARD
BEGIN:DAYLIGHT
TZOFFSETFROM:+0100
TZOFFSETTO:+0200
TZNAME:CEST
DTSTART:20210328T010000
END:DAYLIGHT
BEGIN:STANDARD
TZOFFSETFROM:+0200
TZOFFSETTO:+0100
TZNAME:CET
DTSTART:20211031T010000
END:STANDARD
END:VTIMEZONE
BEGIN:VEVENT
DTSTART;TZID=Europe/Berlin:20200905T120000
DTEND;TZID=Europe/Berlin:20200905T122000
DTSTAMP:20260421T103248
CREATED:20200821T095036Z
LAST-MODIFIED:20200825T104146Z
UID:28431-1599307200-1599308400@www.autarkia.info
SUMMARY:Nachhaltig Leben im Alter ist auch eine Frage der finanziellen Möglichkeiten - Rainer Hilf
DESCRIPTION:Ausreichende finanzielle Absicherung im Alter ermöglicht später eine aktive Gestaltung und persönliche Entscheidungen. Nachhaltiges Leben wird mit einer Altersgrundsicherung schwer vereinbar sein. Die betriebliche Altersvorsorge bietet zusätzlich zur gesetzlichen Rente eine lukrative Erweiterung der Einkünfte im Rentenalter. Die Möglichkeit über den Arbeitgeber vom Bruttoentgelt zu sparen\, bedeutet die Steuerlast zu senken\, Sozialabgaben zu sparen und einen gesetzlich zugesicherten Zuschuss vom Arbeitgeber zur eigenen Altersversorgung zu bekommen.\n\nDie Verka Pensionskasse bietet diese Rentenversicherung im Gegensatz zum Markt in nachhaltigen Kapitalanlagen an. Unsere nachhaltige Anlageentscheidung seit vielen Jahren: Ausnahmsloser Verzicht auf Anlageinvestitionen in ethisch\, sozial und ökologisch fragwürdige Unternehmen und Staaten bei gleichzeitiger Fokussierung auf besonders nachhaltige Themen-Investments mit geringem Risiko. \n\nNachhaltig entscheiden ist beim Kauf von Lebensmitteln\, Kleidung\, Mobilität ganz einfach…bei der Altersvorsorge auch. \nDie Verka gibt es seit 1924. Wir sind Spezialisten in der betrieblichen Altersversorgung. \n\n \n 
URL:https://www.autarkia.info/event/nachhaltig-leben-im-alter-ist-auch-eine-frage-der-finanziellen-moeglichkeiten-rainer-hilf/
LOCATION:Vortragssaal
ATTACH;FMTTYPE=image/gif:https://www.autarkia.info/wp-content/uploads/2020/08/verka_logo.gif
END:VEVENT
BEGIN:VEVENT
DTSTART;TZID=Europe/Berlin:20200905T123000
DTEND;TZID=Europe/Berlin:20200905T125000
DTSTAMP:20260421T103248
CREATED:20200825T124429Z
LAST-MODIFIED:20200825T124429Z
UID:28555-1599309000-1599310200@www.autarkia.info
SUMMARY:Leben im Tiny House als Familie auf 28qm. Wie es funktioniert & was wir fürs Leben gelernt haben - Max Watzlawek
DESCRIPTION:Seit fast 2 Jahren leben Noreen und Max mit ihrer Tochter in einem Tiny House on Wheels auf 28 qm\, verteilt auf 2 Ebenen inkl. Badewanne\, Familienbett\, vollausgestatteter Küche und großem Wohnbereich. Der Weg dorthin war nicht immer einfach und dennoch haben sie diesen Schritt niemals bereut\, um ihr Leben leichter\, einfacher und unkomplizierter zu gestalten. Mittlerweile geben sie Coachings & Workshops zum Thema Tiny House Living\, ZeroWaste & autarkes Leben und lassen Interessierte auf Instagram & YouTube an ihrem Tiny Lifestyle teilhaben. \nAuf der Green World Tour beantworten sie Fragen an ihrem Stand und berichten in einem Vortrag über Ihr Leben im Tiny House\, wie es möglich ist\, als Familie eine gute Zeit zu haben und welche Learnings sie aus den vielen gesammelten Erfahrungen für sich mitnehmen.
URL:https://www.autarkia.info/event/leben-im-tiny-house-als-familie-auf-28qm-wie-es-funktioniert-was-wir-fuers-leben-gelernt-haben-max-watzlawek/
LOCATION:Vortragssaal
ATTACH;FMTTYPE=image/jpeg:https://www.autarkia.info/wp-content/uploads/2020/08/maxgreen.jpg
END:VEVENT
BEGIN:VEVENT
DTSTART;TZID=Europe/Berlin:20200905T124500
DTEND;TZID=Europe/Berlin:20200905T130500
DTSTAMP:20260421T103248
CREATED:20200730T135926Z
LAST-MODIFIED:20200824T092715Z
UID:27753-1599309900-1599311100@www.autarkia.info
SUMMARY:Gesund essen: Mensch und Planet im Einklang - Dr. Nina Wolff
DESCRIPTION:Neben anderen Faktoren bestimmt auch ganz maßgeblich die Art und Weise\, wie wir Lebensmittel produzieren und auswählen\, über die Gesundheit unseres Planeten. Während das industrielle\, globale Lebensmittelsystem und unsere Ernährungsweise zur Überschreitung planetarer Grenzen und zur Klimakrise beitragen\, haben Verbraucher*innen die Wahl\, sich für eine Ernährung im Einklang mit Gesundheit von Mensch\, Tier und Umwelt zu entscheiden. Was Slow Food unter einer ganzheitlich gesunden Ernährung unter Berücksichtigung der Planetengesundheit versteht und wie das im Alltag umgesetzt werden kann\, hören wir bei diesem Vortrag.
URL:https://www.autarkia.info/event/planetary-health-diet-ernaehrung-im-einklang-mit-gesundheit-von-mensch-tier-und-umwelt-nina-wolff/
LOCATION:Erlebnis Stage für Groß und Klein
ATTACH;FMTTYPE=image/png:https://www.autarkia.info/wp-content/uploads/2020/07/slowfoodde_logo.png
END:VEVENT
BEGIN:VEVENT
DTSTART;TZID=Europe/Berlin:20200905T130000
DTEND;TZID=Europe/Berlin:20200905T132000
DTSTAMP:20260421T103248
CREATED:20200813T063412Z
LAST-MODIFIED:20200904T081337Z
UID:28172-1599310800-1599312000@www.autarkia.info
SUMMARY:Standards setzen. Kreisläufe schließen. – Andre Fritzsche und Martin Häuer
DESCRIPTION:Circular Economy hat die Umstellung der Wertschöpfung zum Ziel – weg von der linearen Wegwerfgesellschaft hin zum zirkulären Modell. Einer der Schlüssel zur Circular Economy sind Normen und Standards\, die aufgrund ihrer breiten Akzeptanz und Anwendung großes Potenzial haben\, Nachhaltigkeit zu fördern. Sie sind ein wichtiger Treiber für mehr Klimaschutz. Erfahren Sie mehr über Normen und Standards in der Circular Economy und über den aktuellen Standard DIN SPEC 3105 „Open Source Hardware“ (OSH)\, der zum Aufbau einer Circular Economy beitragen kann. OSH ermöglicht vernetzte Produktkreisläufe und die DIN SPEC 3105 stellt in diesem Bereich die Weichen für eine vernetzte Circular Economy.
URL:https://www.autarkia.info/event/standards-setzen-kreislaeufe-schliessen-benjamin-hein-und-martin-haeuer/
LOCATION:Vortragssaal
CATEGORIES:Veranstaltung
ATTACH;FMTTYPE=image/png:https://www.autarkia.info/wp-content/uploads/2020/08/1200px-DIN-Logo.svg.png
ORGANIZER;CN="DIN Deutsches Institut f%C3%BCr Normung e.V.":MAILTO:amelie.leipprand@din.de
END:VEVENT
BEGIN:VEVENT
DTSTART;TZID=Europe/Berlin:20200905T131500
DTEND;TZID=Europe/Berlin:20200905T133500
DTSTAMP:20260421T103248
CREATED:20200902T142326Z
LAST-MODIFIED:20200903T152918Z
UID:29207-1599311700-1599312900@www.autarkia.info
SUMMARY:Turning Vision into Reality - Suzan Yumerova
DESCRIPTION:
URL:https://www.autarkia.info/event/turning-vision-into-reality/
LOCATION:Erlebnis Stage für Groß und Klein
CATEGORIES:Veranstaltung
ATTACH;FMTTYPE=image/png:https://www.autarkia.info/wp-content/uploads/2020/09/isagenix_logo.png
END:VEVENT
BEGIN:VEVENT
DTSTART;TZID=Europe/Berlin:20200905T134500
DTEND;TZID=Europe/Berlin:20200905T140500
DTSTAMP:20260421T103248
CREATED:20200820T125707Z
LAST-MODIFIED:20200825T104908Z
UID:28402-1599313500-1599314700@www.autarkia.info
SUMMARY:Wege zu Mehrweg – Abfallvermeidung in der Praxis – Elena Schägg
DESCRIPTION:Wer schon einmal im Alltag versucht hat\, auf Plastik zu verzichten\, weiß\, dass es unbequem werden kann. Jährlich wachsende Verpackungsabfallberge und Deutschlands trauriger Europavizemeistertitel im Produzieren von Verpackungsmüll sprechen für sich. Wie kann also eine abfallärmere Zukunft aussehen? Was kann jede*r Einzelne tun um Verpackungen einzusparen und was ist Aufgabe der Politik? Im Vortrag werden einzelne Lösungsansätze insbesondere im Bereich Mehrwegverpackungen vorgestellt und vielleicht ein bisschen Hoffnung auf Besserung gegeben.
URL:https://www.autarkia.info/event/wege-zu-mehrweg-abfallvermeidung-in-der-praxis-elena-schaegg/
LOCATION:Erlebnis Stage für Groß und Klein
ATTACH;FMTTYPE=image/jpeg:https://www.autarkia.info/wp-content/uploads/2020/08/01_BWC1.jpg
END:VEVENT
BEGIN:VEVENT
DTSTART;TZID=Europe/Berlin:20200905T141500
DTEND;TZID=Europe/Berlin:20200905T143500
DTSTAMP:20260421T103248
CREATED:20200825T114610Z
LAST-MODIFIED:20200902T132818Z
UID:28549-1599315300-1599316500@www.autarkia.info
SUMMARY:Reisen geht auch nachhaltig! greenline-hotels.com – travel green & feel good – Darlene Schwabroch
DESCRIPTION:Wir integrieren die Nachhaltigkeit immer mehr in unser tägliches Leben und achten auf umweltverträgliche Mode\, Ernährung und Kosmetik. Doch wie steht es eigentlich um die Nachhaltigkeit beim Reisen? Auch hier können wir unser grünes Herz zum Schlagen bringen! Mit den greenline-hotels.com\, der Nummer 1 Buchungsplattform für nachhaltige Unterkünfte\, bekommt man richtig Lust auf „grünen“ Urlaub. Dich erwarten unzählige nachhaltig zertifizierte Hotels in ganz Europa\, tolle Ausflugsziele in der Stadt\, in den Bergen oder am Wasser\, Nachhaltigkeitstipps für den Alltag\, spannende Blogs und vieles mehr… Hier werden Urlaubsträume wahr!
URL:https://www.autarkia.info/event/travel-green-feel-good-greenline-hotels-darlene-schwabroch/
LOCATION:Erlebnis Stage für Groß und Klein
ATTACH;FMTTYPE=image/png:https://www.autarkia.info/wp-content/uploads/2020/08/greensign_logo.png
END:VEVENT
BEGIN:VEVENT
DTSTART;TZID=Europe/Berlin:20200905T144500
DTEND;TZID=Europe/Berlin:20200905T170500
DTSTAMP:20260421T103248
CREATED:20200730T134521Z
LAST-MODIFIED:20200730T134521Z
UID:27748-1599317100-1599325500@www.autarkia.info
SUMMARY:ecoligo – Private Geldanlage als Mittel zur Klimafinanzierung im Globalen Süden - Theresa Zöckler
DESCRIPTION:ecoligo bietet eine vollständig finanzierte Solar-as-a-Service Lösung für Unternehmen in Entwicklungs- und Schwellenländern an. Mit einer komplett digitalen Plattform zur Finanzierung und Entwicklung von Solarprojekten nimmt ecoligo die Hürden\, die solche Projekte bislang verhindern. Die Versorgung von Unternehmen mit preiswertem Solarstrom sowie Energieeinsparmaßnahmen\, ermöglicht diesen zu wachsen\, wodurch die lokale Wirtschaft gestärkt wird. Erfahren Sie mehr auf www.ecoligo.com. \nDie Solarprojekte werden durch die Crowdinvesting-Plattform www.ecoligo.investments finanziert. Privatinvestoren werden nicht nur fixe und attraktive Renditen geboten\, sondern die Investitionen sparen auch CO2 ein und unterstützen die wirtschaftliche Entwicklung in diesen Ländern. Dadurch fördert ecoligo wirksam die Bürgerbeteiligung an der globalen Energiewende. Erfahren Sie mehr auf www.ecoligo.investments.
URL:https://www.autarkia.info/event/ecoligo-private-geldanlage-als-mittel-zur-klimafinanzierung-im-globalen-sueden-theresa-zoeckler-2/
LOCATION:Erlebnis Stage für Groß und Klein
ATTACH;FMTTYPE=image/jpeg:https://www.autarkia.info/wp-content/uploads/2020/07/ecoligo_logo.jpg
END:VEVENT
BEGIN:VEVENT
DTSTART;TZID=Europe/Berlin:20200905T150000
DTEND;TZID=Europe/Berlin:20200905T152000
DTSTAMP:20260421T103248
CREATED:20200820T114629Z
LAST-MODIFIED:20200825T111840Z
UID:28398-1599318000-1599319200@www.autarkia.info
SUMMARY:Ohne Wald keine Welt. Warum wir unsere alten Wälder schützen müssen - Dr. Susanne Winter
DESCRIPTION:Ohne Wald verlieren wir unsere bekannte Welt.  \nDen Wäldern dieser Welt geht die Luft zum Atmen aus! Allein in den ersten fünf Monaten des Jahres 2020 brannten im brasilianischen Amazonas mehr als 2.000 Quadratkilometer tropischer Regenwald – eine Fläche so groß\, wie 280.000 Fußballfelder. Weltweit schreitet die Waldzerstörung in einem Rekordtempo voran\, mehr als 21 Hektar Wald werden pro Minute vernichtet. \nWarum wir unsere alten Wälder schützen müssen?  \nDie Bewahrung intakter Lebensräume und der Erhalt wildlebender Tier- und Pflanzenarten sind eine unabdingbare Notwendigkeit für das Überleben der Menschheit. Der WWF setzt sich in mehr als 300 Projekten in fast 90 Ländern für den Schutz und Erhalt weiträumiger und widerstandsfähiger Waldlandschaften ein\, von denen die biologische Vielfalt\, die Menschen vor Ort und unser Klima profitieren. \nDer WWF-Vortrag erklärt Herausforderungen und präsentiert Lösungen. Wir laden alle herzlich ein\, die sich zu diesem und anderen Naturschutzthemen informieren oder engagieren möchten! \n  \n 
URL:https://www.autarkia.info/event/ohne-wald-keine-welt-warum-wir-unsere-alten-waelder-schuetzen-muessen-dr-susanne-winter/
LOCATION:Vortragssaal
CATEGORIES:Veranstaltung
ATTACH;FMTTYPE=image/png:https://www.autarkia.info/wp-content/uploads/2020/07/WWF-logo.png
END:VEVENT
BEGIN:VEVENT
DTSTART;TZID=Europe/Berlin:20200905T160000
DTEND;TZID=Europe/Berlin:20200905T162000
DTSTAMP:20260421T103248
CREATED:20200820T125703Z
LAST-MODIFIED:20200828T122413Z
UID:28403-1599321600-1599322800@www.autarkia.info
SUMMARY:Klimawandel: Warum 3 Grad Erwärmung zu viel sind - eine erdgeschichtliche Perspektive
DESCRIPTION:In der geologischen Vergangenheit gab es große Klimaänderungen. Im Vortrag werde ich aufzeigen wie diese mit Änderungen von CO2 in der Atmosphäre zusammenhängen\, welche weiteren Ursachen eine Rolle spielen\, und woher wir über diese Änderungen wissen. Ich werde erklären\, warum der von Menschen verursachte Anstieg von CO2 möglicherweise zu einem Klima führen kann\, das sich erheblich von dem in den letzten Jahrmillionen unterscheidet. Diese Entwicklung ist jedoch vermeidbar und jeder einzelne kann dazu beitragen. Ich werde diskutieren durch welche Verhaltensänderungen am meisten erreicht werden kann. \nReferent: Dr. Bernhard Steinberger\, (ÖDP Brandenburg\, + Geophysiker (Harvard University)\, Geo-Forschungs-Zentrum Potsdam)
URL:https://www.autarkia.info/event/klimawandel-warum-3-grad-erwaermung-zu-viel-sind-eine-erdgeschichtliche-perspektive-dr-bernhard-steinberger/
LOCATION:Vortragssaal
ATTACH;FMTTYPE=image/jpeg:https://www.autarkia.info/wp-content/uploads/2020/08/oedp_logo.jpg
END:VEVENT
BEGIN:VEVENT
DTSTART;TZID=Europe/Berlin:20200905T161500
DTEND;TZID=Europe/Berlin:20200905T163500
DTSTAMP:20260421T103248
CREATED:20200814T142400Z
LAST-MODIFIED:20200825T111501Z
UID:28239-1599322500-1599323700@www.autarkia.info
SUMMARY:Lernen vom Bauern - Erfahrungen\, Ideen und Möglichkeiten aus Agrar- und Umweltbildung auf dem VIERFELDERHOF in Berlin Gatow - Maxie Grüter
DESCRIPTION:Der Kinder– und Familienbauernhof Vierfelderhof ist eine gemeinnützige GmbH am südwestlichen Rand von Berlin. Das knapp 100 Hektar große Gelände inmitten eines Landschaftsschutzgebietes umfasst neben unseren Ackerflächen eine Hofstelle mit Hofladen und –café\, sowie mobile Ställe und Außengehege für Rinder\, Ziegen\, Schafe\, Hühner\, Enten\, Gänse\, Kaninchen und Schweine. Der Hof ist täglich für alle Besucher offen\, Hofcafé und –laden sind von Mittwoch bis Sonntag geöffnet. Wir wollen zeigen\, wie ein traditioneller Bauernhof arbeitet und wie unsere Lebensmittel entstehen und produziert werden. Kinder werden auf Nachhaltigkeit und Naturschutz neugierig gemacht und angeregt\, sich intensiver mit Ihrer Umwelt auseinander zu setzen. Auf spielerische Weise vermitteln wir unser Angebot “Lernen vom Bauern”. Die Kinder machen eigene Erfahrungen im Umgang mit Pflanzen und Tieren und deren Verwendung und Verarbeitungsmöglichkeiten. Sie erleben eine artgerechte Tierhaltung\, entwickeln ein Bewusstsein für natürliche Kreisläufe und leiten daraus prägende Erkenntnisse für das eigene Leben ab.
URL:https://www.autarkia.info/event/lernen-vom-bauern-erfahrungen-ideen-und-moeglichkeiten-aus-agrar-und-umweltbildung-auf-dem-vierfelderhof-in-berlin-gatow-maxie-grueter/
LOCATION:Erlebnis Stage für Groß und Klein
ATTACH;FMTTYPE=image/jpeg:https://www.autarkia.info/wp-content/uploads/2020/08/vierfelderhof_logo.jpg
END:VEVENT
BEGIN:VEVENT
DTSTART;TZID=Europe/Berlin:20200905T163000
DTEND;TZID=Europe/Berlin:20200905T165000
DTSTAMP:20260421T103248
CREATED:20200828T125414Z
LAST-MODIFIED:20200828T125414Z
UID:28938-1599323400-1599324600@www.autarkia.info
SUMMARY:Nachhaltige und zero-waste Mode - Natascha von Hirschhausen
DESCRIPTION:
URL:https://www.autarkia.info/event/nachhaltige-und-zero-waste-mode-natascha-von-hirschhausen/
LOCATION:Vortragssaal
CATEGORIES:Veranstaltung
ATTACH;FMTTYPE=image/jpeg:https://www.autarkia.info/wp-content/uploads/2020/08/vonhirschhausen_logo.jpg
END:VEVENT
END:VCALENDAR