BEGIN:VCALENDAR
VERSION:2.0
PRODID:-//Autarkia - Green World Tour - ECPv6.15.20//NONSGML v1.0//EN
CALSCALE:GREGORIAN
METHOD:PUBLISH
X-ORIGINAL-URL:https://www.autarkia.info
X-WR-CALDESC:Veranstaltungen für Autarkia - Green World Tour
REFRESH-INTERVAL;VALUE=DURATION:PT1H
X-Robots-Tag:noindex
X-PUBLISHED-TTL:PT1H
BEGIN:VTIMEZONE
TZID:Europe/Berlin
BEGIN:DAYLIGHT
TZOFFSETFROM:+0100
TZOFFSETTO:+0200
TZNAME:CEST
DTSTART:20190331T010000
END:DAYLIGHT
BEGIN:STANDARD
TZOFFSETFROM:+0200
TZOFFSETTO:+0100
TZNAME:CET
DTSTART:20191027T010000
END:STANDARD
BEGIN:DAYLIGHT
TZOFFSETFROM:+0100
TZOFFSETTO:+0200
TZNAME:CEST
DTSTART:20200329T010000
END:DAYLIGHT
BEGIN:STANDARD
TZOFFSETFROM:+0200
TZOFFSETTO:+0100
TZNAME:CET
DTSTART:20201025T010000
END:STANDARD
BEGIN:DAYLIGHT
TZOFFSETFROM:+0100
TZOFFSETTO:+0200
TZNAME:CEST
DTSTART:20210328T010000
END:DAYLIGHT
BEGIN:STANDARD
TZOFFSETFROM:+0200
TZOFFSETTO:+0100
TZNAME:CET
DTSTART:20211031T010000
END:STANDARD
END:VTIMEZONE
BEGIN:VEVENT
DTSTART;TZID=Europe/Berlin:20200919T120000
DTEND;TZID=Europe/Berlin:20200919T122000
DTSTAMP:20260421T152539
CREATED:20200206T114003Z
LAST-MODIFIED:20200429T131950Z
UID:22162-1600516800-1600518000@www.autarkia.info
SUMMARY:Fridays for Future - Finja / Paul
DESCRIPTION:
URL:https://www.autarkia.info/event/fridays-for-future-finja-paul/
LOCATION:Vortragssaal
ATTACH;FMTTYPE=image/jpeg:https://www.autarkia.info/wp-content/uploads/2020/02/fffkoeln_logo.jpg
END:VEVENT
BEGIN:VEVENT
DTSTART;TZID=Europe/Berlin:20200919T124500
DTEND;TZID=Europe/Berlin:20200919T130500
DTSTAMP:20260421T152539
CREATED:20200910T080200Z
LAST-MODIFIED:20200911T130349Z
UID:29426-1600519500-1600520700@www.autarkia.info
SUMMARY:Mode macht Spaß. Die Modeindustrie leider nicht! - Hannah Frahsek
DESCRIPTION:Der Vortag gibt einen Einblick über die Missstände der Bekleidungsindustrie und deren Folgen auf Mensch und Umwelt. \nEs werden Möglichkeiten aufgezeigt\, wie Ressourcenverbrauch und Müll reduziert & Mode nachhaltig konsumiert werden kann. \nZusätzlich stellen wir unser Konzept der Kleiderei vor – einer innovativen Boutique\, die ähnlich wie eine Fashion-Bibliothek funktioniert; als Beispiel für einen Gegenentwurf zu der Fast Fashion Industrie. Mit dem Konzept wird gemeinschaftlich das genutzt\, was ohnehin bereits produziert wurde.   \nKollaborativer Konsum: simpel\, lokal und mit großem Einfluss.
URL:https://www.autarkia.info/event/nachhaltige-alternativen-im-modedschungel-lena-schroeder/
LOCATION:Erlebnis Stage für Groß und Klein
CATEGORIES:Veranstaltung
ATTACH;FMTTYPE=image/jpeg:https://www.autarkia.info/wp-content/uploads/2020/09/kleiderei_vortrag.jpg
END:VEVENT
BEGIN:VEVENT
DTSTART;TZID=Europe/Berlin:20200919T131500
DTEND;TZID=Europe/Berlin:20200919T133500
DTSTAMP:20260421T152539
CREATED:20200214T135525Z
LAST-MODIFIED:20200429T133042Z
UID:22440-1600521300-1600522500@www.autarkia.info
SUMMARY:fairzinsung + fairsorge = nachhaltig agieren bei Geldanlagen und Versicherungen - Andreas Mankel
DESCRIPTION:Nachhaltige Investments – fairzinsen Sie Ihr Geld doch einfach. \nFairzinsung ist die Plattform für verantwortungsvolle Anleger\, die in ökologisch und sozial nachhaltige Projekte wie Solarparks\, Baumplantagen\, Kitas oder Senioren-WGs investieren. Daraus entstehen langfristig Erträge etwa durch Stromverkauf oder Vermietung. Und dabei gewinnen alle: die Umwelt\, die Menschen in ihrer Region und Sie als Anleger!
URL:https://www.autarkia.info/event/fairzinsung-fairsorge-nachhaltig-agieren-bei-geldanlagen-und-versicherungen-andreas-mankel/
LOCATION:Erlebnis Stage für Groß und Klein
ATTACH;FMTTYPE=image/jpeg:https://www.autarkia.info/wp-content/uploads/2020/02/7x7finanz.jpg
END:VEVENT
BEGIN:VEVENT
DTSTART;TZID=Europe/Berlin:20200919T134500
DTEND;TZID=Europe/Berlin:20200919T140500
DTSTAMP:20260421T152539
CREATED:20200825T080936Z
LAST-MODIFIED:20200825T080936Z
UID:28515-1600523100-1600524300@www.autarkia.info
SUMMARY:Ehrenamtliches Engagement im Bereich der Entwicklungszusammenarbeit und deren Schwierigkeiten - Nils Zickermann
DESCRIPTION:Im Bereich der Entwicklungszusammenarbeit in Deutschland hat sich über die letzten Jahrzehnte vieles geändert. Von der Art der Hilfe\, über den Umgang mit den Menschen in Entwicklungsländern bis zum erweiterten Bewusstsein bei den Spendern gab es einige Veränderungen. Dies hat nicht nur die Arbeit von großen Institutionen wie Unicef\, Brot für Welt oder der GIZ beeinflusst\, sondern auch kleinere Vereine und Organisationen mit größtenteils ehrenamtlich Aktiven.\nIch möchte Ihnen in diesem Vortrag die Arbeit von Ingenieure ohne Grenzen und die Herausforderungen des Ehrenamts im Bereich der Entwicklungszusammenarbeit näherbringen.
URL:https://www.autarkia.info/event/ehrenamtliches-engagement-im-bereich-der-entwicklungszusammenarbeit-und-deren-schwierigkeiten-nils-zickermann/
LOCATION:Erlebnis Stage für Groß und Klein
ATTACH;FMTTYPE=image/jpeg:https://www.autarkia.info/wp-content/uploads/2020/08/crop_original_original_Logo_V1_gro__RGB_72dpi.jpg
END:VEVENT
BEGIN:VEVENT
DTSTART;TZID=Europe/Berlin:20200919T140000
DTEND;TZID=Europe/Berlin:20200919T142000
DTSTAMP:20260421T152539
CREATED:20200429T140422Z
LAST-MODIFIED:20200911T132609Z
UID:23286-1600524000-1600525200@www.autarkia.info
SUMMARY:Verkehrswende - mehr Nachhaltigkeit in meiner Stadt - Ralph Herbertz
DESCRIPTION:
URL:https://www.autarkia.info/event/energiewende-mehr-nachhaltigkeit-in-meiner-stadt-ralf-herbertz/
LOCATION:Vortragssaal
ATTACH;FMTTYPE=image/png:https://www.autarkia.info/wp-content/uploads/2020/04/VCD_Logo_mit_UZ_mitRahmen_CMYK.png
END:VEVENT
BEGIN:VEVENT
DTSTART;TZID=Europe/Berlin:20200919T154500
DTEND;TZID=Europe/Berlin:20200919T160500
DTSTAMP:20260421T152539
CREATED:20200219T124340Z
LAST-MODIFIED:20200429T133533Z
UID:22552-1600530300-1600531500@www.autarkia.info
SUMMARY:Plusenergiehaus = Passivhaus + PV + Thermie in Harmonie	 - Andreas Nordhoff
DESCRIPTION:Plusenergiehäuser sind viel einfacher als gedacht: Gut gedämmt + gute Dreifachfenster + gute Luftdichtheit + gute Wärmerückgewinnung + gute Wärmebrückenvermeidung = Passivhaus und jetzt noch die Sonne nutzen durch PV und Thermie = Plusenergiehaus und die Zukunft ist gesichert\, sowohl für einen selbst als auch für die Kinder.
URL:https://www.autarkia.info/event/plusenergiehaus-passivhaus-pv-thermie-in-harmonie-andreas-nordhoff/
LOCATION:Erlebnis Stage für Groß und Klein
ATTACH;FMTTYPE=image/png:https://www.autarkia.info/wp-content/uploads/2020/02/IBNPassivhaus_logo.png
END:VEVENT
END:VCALENDAR