BEGIN:VCALENDAR
VERSION:2.0
PRODID:-//Autarkia - Green World Tour - ECPv6.15.20//NONSGML v1.0//EN
CALSCALE:GREGORIAN
METHOD:PUBLISH
X-ORIGINAL-URL:https://www.autarkia.info
X-WR-CALDESC:Veranstaltungen für Autarkia - Green World Tour
REFRESH-INTERVAL;VALUE=DURATION:PT1H
X-Robots-Tag:noindex
X-PUBLISHED-TTL:PT1H
BEGIN:VTIMEZONE
TZID:Europe/Berlin
BEGIN:DAYLIGHT
TZOFFSETFROM:+0100
TZOFFSETTO:+0200
TZNAME:CEST
DTSTART:20190331T010000
END:DAYLIGHT
BEGIN:STANDARD
TZOFFSETFROM:+0200
TZOFFSETTO:+0100
TZNAME:CET
DTSTART:20191027T010000
END:STANDARD
BEGIN:DAYLIGHT
TZOFFSETFROM:+0100
TZOFFSETTO:+0200
TZNAME:CEST
DTSTART:20200329T010000
END:DAYLIGHT
BEGIN:STANDARD
TZOFFSETFROM:+0200
TZOFFSETTO:+0100
TZNAME:CET
DTSTART:20201025T010000
END:STANDARD
BEGIN:DAYLIGHT
TZOFFSETFROM:+0100
TZOFFSETTO:+0200
TZNAME:CEST
DTSTART:20210328T010000
END:DAYLIGHT
BEGIN:STANDARD
TZOFFSETFROM:+0200
TZOFFSETTO:+0100
TZNAME:CET
DTSTART:20211031T010000
END:STANDARD
END:VTIMEZONE
BEGIN:VEVENT
DTSTART;TZID=Europe/Berlin:20201011T120000
DTEND;TZID=Europe/Berlin:20201011T122000
DTSTAMP:20260422T022949
CREATED:20201002T113945Z
LAST-MODIFIED:20201002T113945Z
UID:30091-1602417600-1602418800@www.autarkia.info
SUMMARY:Banktivist*in gesucht! - Agnes Dieckmann
DESCRIPTION:Banks against Future? Nicht mit mir! Was wenn ihre Bank Klima und Kriege finanziert – Urwald fordert mit der neuen Kampagne “Banks against Future“ von den Banken ein kategorisches Nein zu Unternehmen\, die Rüstungsgüter an kriegführende Staaten liefern oder trotz Klimakrise am Kohlegeschäft festhalten. Urgewald lädt Bankkund*innen ab sofort ein\, der eigenen Bank eine Protest-E-Mail oder klassisch eine Postkarte zu senden\, um auf Veränderung zu drängen – kurz: „Banktivist*in“ zu werden.
URL:https://www.autarkia.info/event/banktivistin-gesucht-agnes-dieckmann/
LOCATION:Vortragssaal
ATTACH;FMTTYPE=image/png:https://www.autarkia.info/wp-content/uploads/2018/08/urgewald.png
END:VEVENT
BEGIN:VEVENT
DTSTART;TZID=Europe/Berlin:20201011T123000
DTEND;TZID=Europe/Berlin:20201011T125000
DTSTAMP:20260422T022949
CREATED:20201005T114820Z
LAST-MODIFIED:20201008T144514Z
UID:30103-1602419400-1602420600@www.autarkia.info
SUMMARY:Fossil Free Münster - Kein Geld für Kohle\, Öl und Gas! - Britta
DESCRIPTION:Wir sind eine bunt gemischte Gruppe und kämpfen gemeinsam für den Ausstieg aus fossilen Brennstoffen und für eine wirksame Klimapolitik. Wir engagieren uns\, wo es uns Spaß macht und probieren dabei viele verschiedene Formen aus: Petitionen\, Diskussionsveranstaltungen\, Demonstrationen\, Kunst\, Theater\, Workshops. Wir setzen unserer Kreativität keine Grenzen und lernen die ganze Zeit dazu! Erfahre mehr über vergangene und geplante Aktionen\, aktuelle Ziele und Mitmachmöglichkeiten!
URL:https://www.autarkia.info/event/fossil-free-muenster-kein-geld-fuer-kohle-oel-und-gas-britta-2/
LOCATION:Vortragssaal
ATTACH;FMTTYPE=image/png:https://www.autarkia.info/wp-content/uploads/2020/10/fossilfree_logo.png
END:VEVENT
BEGIN:VEVENT
DTSTART;TZID=Europe/Berlin:20201011T124500
DTEND;TZID=Europe/Berlin:20201011T130500
DTSTAMP:20260422T022949
CREATED:20201006T130602Z
LAST-MODIFIED:20201006T130602Z
UID:30164-1602420300-1602421500@www.autarkia.info
SUMMARY:Nachhaltigkeit im Studium - Jana Bergmann (Online Vortrag)
DESCRIPTION:Das Studentenleben hat viele Aspekte\, welche manchmal schwer unter einen Hut zu bringen sind. Nicht viel Geld ausgeben aber trotzdem den Alltag nachhaltiger gestalten\, klingt da zum Beispiel ein wenig utopisch. Lasst euch vom Gegenteil überzeugen.
URL:https://www.autarkia.info/event/nachhaltigkeit-im-studium-jana-bergmann-online-vortrag/
LOCATION:Erlebnis Stage für Groß und Klein
ATTACH;FMTTYPE=image/jpeg:https://www.autarkia.info/wp-content/uploads/2020/10/janabergmann-scaled.jpg
END:VEVENT
BEGIN:VEVENT
DTSTART;TZID=Europe/Berlin:20201011T130000
DTEND;TZID=Europe/Berlin:20201011T132000
DTSTAMP:20260422T022949
CREATED:20200924T073026Z
LAST-MODIFIED:20201008T101822Z
UID:29877-1602421200-1602422400@www.autarkia.info
SUMMARY:Verkehrswende?! - Prof. Dr.-Ing. Christof Wetter
DESCRIPTION:
URL:https://www.autarkia.info/event/verkehrswende-prof-dr-ing-christof-wetter/
LOCATION:Vortragssaal
ATTACH;FMTTYPE=image/png:https://www.autarkia.info/wp-content/uploads/2020/09/emzfhmuenster_logo.png
END:VEVENT
BEGIN:VEVENT
DTSTART;TZID=Europe/Berlin:20201011T133000
DTEND;TZID=Europe/Berlin:20201011T135000
DTSTAMP:20260422T022949
CREATED:20200924T074145Z
LAST-MODIFIED:20201006T122508Z
UID:29884-1602423000-1602424200@www.autarkia.info
SUMMARY:Status Quo der Verpackungsoptimierung aus Sicht der Verbraucher\, Lebensmittelhersteller und des Lebensmittelhandels - Svea Braukmann
DESCRIPTION:Der Vortrag Verpackungsoptimierung bei Lebensmitteln beschäftigt sich mit der Gestaltung und Vermeidung von Verpackungen in den Bereichen Lebensmittelhandel und Verpackungsherstellung. Auch wird beleuchtet\, welche Möglichkeiten Verbrauchern bereitstehen\, um sich selbst für die Verpackungsoptimierung einzusetzen. Neben der Vorstellung von Ladenkonzepten und Gestaltungsmöglichkeiten\, werden letztlich neue Innovationen und Rohstoffe vorgestellt\, die die Herstellung von Verpackungen optimieren sollen.
URL:https://www.autarkia.info/event/status-quo-der-verpackungsoptimierung-aus-sicht-der-verbraucher-lebensmittelhersteller-und-des-lebensmittelhandels-svea-braukmann/
LOCATION:Vortragssaal
ATTACH;FMTTYPE=image/jpeg:https://www.autarkia.info/wp-content/uploads/2019/09/Logo_Fh-Münster-e1568886908689.jpg
END:VEVENT
BEGIN:VEVENT
DTSTART;TZID=Europe/Berlin:20201011T134500
DTEND;TZID=Europe/Berlin:20201011T140500
DTSTAMP:20260422T022949
CREATED:20201008T101015Z
LAST-MODIFIED:20201009T143408Z
UID:30203-1602423900-1602425100@www.autarkia.info
SUMMARY:Wohnen mit Holz - Eva-Maria Spötta
DESCRIPTION:Wussten Sie\, dass eine Arbeitsfläche aus Holz hygienischer ist als eine aus Edelstahl? Dieses und vieles andere Interessante rund um das Holz erfahren Sie in diesem Vortrag. Sie werden verstehen\, warum das älteste Baumaterial der Menschheit immer noch das Beste ist.
URL:https://www.autarkia.info/event/wohnen-mit-holz-eva-maria-spoetta-2/
LOCATION:Erlebnis Stage für Groß und Klein
ATTACH;FMTTYPE=image/jpeg:https://www.autarkia.info/wp-content/uploads/2020/10/oekobau_logo.jpg
END:VEVENT
BEGIN:VEVENT
DTSTART;TZID=Europe/Berlin:20201011T141500
DTEND;TZID=Europe/Berlin:20201011T143500
DTSTAMP:20260422T022949
CREATED:20200824T125039Z
LAST-MODIFIED:20201001T071444Z
UID:28507-1602425700-1602426900@www.autarkia.info
SUMMARY:Ökologische Pflanzenzüchtung\, Bio von Anfang an - Ute Rettmann
DESCRIPTION:Der Ökolandbau benötigt Sorten\, die an seine nachhaltige Wirtschaftsweise angepasst sind\, also u.a. ohne Kunstdünger und Pestizide auskommen. Weitere Aspekte der ökologischen Züchtung sind Geschmack\, Ernährungsqualität\, Standortangepasstheit und Fruchtbarkeit der Sorten bei optimalen Erträgen. Inzwischen dominieren 10 Unternehmen mit Hilfe von Patenten\, Gentechnik und Hybriden über 75% des weltweiten Saatgutmarktes. Sowohl die Privatisierung des Saatguts als auch die gängigen Züchtungsmethoden der Agrarkonzerne widersprechen dem ganzheitlichen Ansatz des ökologischen Landbaus. Saatgut ist somit ein gefährdetes Kulturgut geworden. Der Vortrag gibt einen Einblick in die Züchtungsarbeit vom Verein Saat:Gut auf dem Christiansens Biolandhof 
URL:https://www.autarkia.info/event/oekologische-pflanzenzuechtung-ute-rettmann/
LOCATION:Erlebnis Stage für Groß und Klein
ATTACH;FMTTYPE=image/jpeg:https://www.autarkia.info/wp-content/uploads/2020/08/saatgutev_logo.jpg
END:VEVENT
BEGIN:VEVENT
DTSTART;TZID=Europe/Berlin:20201011T143000
DTEND;TZID=Europe/Berlin:20201011T145000
DTSTAMP:20260422T022949
CREATED:20201008T115639Z
LAST-MODIFIED:20201008T115639Z
UID:30206-1602426600-1602427800@www.autarkia.info
SUMMARY:Gemeinwohl-Ökonomie – Wie Unternehmen Sinn machen – Tobias Daur
DESCRIPTION:
URL:https://www.autarkia.info/event/gemeinwohl-oekonomie-wie-unternehmen-sinn-machen-tobias-daur/
LOCATION:Vortragssaal
ATTACH;FMTTYPE=image/png:https://www.autarkia.info/wp-content/uploads/2020/01/gemeinwohlbw.png
END:VEVENT
BEGIN:VEVENT
DTSTART;TZID=Europe/Berlin:20201011T150000
DTEND;TZID=Europe/Berlin:20201011T152000
DTSTAMP:20260422T022949
CREATED:20200923T081533Z
LAST-MODIFIED:20201005T115815Z
UID:21108-1602428400-1602429600@www.autarkia.info
SUMMARY:Klimagerechtigkeitsbewegung - Wandel kommt von unten! - Britta (Aktivistin)
DESCRIPTION:GroKo und Klimakabinett machen es vor: politisch sind die dringend notwendigen Maßnahmen der Klimakatastrophe entgegenzuwirken nicht zu erwarten. Stattdessen erscheint die NRW Regierung sich als Handlanger von Großkonzernen zu verstehen. Unfassbar\, was gerade an Dokumenten veröffentlicht wird\, die genau belegen\, dass unsere Politiker*innen sich lieber für „die Wirtschaft“ einsetzen als für die Allgemeinheit. Was also tun\, außer zu resignieren und anzuerkennen\, dass für unsere Enkel „sie sollen es mal besser haben“ nicht mehr gilt?
URL:https://www.autarkia.info/event/klimagerechtigkeitsbewegung-wandel-kommt-von-unten-britta-aktivistin-2/
LOCATION:Vortragssaal
END:VEVENT
BEGIN:VEVENT
DTSTART;TZID=Europe/Berlin:20201011T151500
DTEND;TZID=Europe/Berlin:20201011T153500
DTSTAMP:20260422T022949
CREATED:20200925T121533Z
LAST-MODIFIED:20200929T124001Z
UID:22121-1602429300-1602430500@www.autarkia.info
SUMMARY:So wird mein eigenes Event nachhaltig - Lars Siepmann & Michael Lülf
DESCRIPTION:
URL:https://www.autarkia.info/event/so-wird-mein-eigenes-event-nachhaltig-lars-siepmann-michael-luelf/
LOCATION:Vortragssaal
CATEGORIES:Veranstaltung
ATTACH;FMTTYPE=image/jpeg:https://www.autarkia.info/wp-content/uploads/2019/11/Greevent_Logo.jpg
END:VEVENT
BEGIN:VEVENT
DTSTART;TZID=Europe/Berlin:20201011T154500
DTEND;TZID=Europe/Berlin:20201011T160500
DTSTAMP:20260422T022949
CREATED:20200923T152450Z
LAST-MODIFIED:20200924T074440Z
UID:28170-1602431100-1602432300@www.autarkia.info
SUMMARY:Kuhmilch - Was gibt es für Alternativen? - Peter Hübner
DESCRIPTION:Milch\, eine der größten Lügen der Werbung. \nHochleistungskühe\, die für unsere Milch in traurigsten Umständen leben müssen und oftmals bis zum letzten Milchtropfen ausgenutzt werden. \nBrauchen wir wirklich Milch für unsere Gesundheit? \nMilch\, mitverantwortlich für den CO2 Ausstoß?
URL:https://www.autarkia.info/event/kuhmilch-was-gibt-es-fuer-alternativen-peter-huebner/
LOCATION:Erlebnis Stage für Groß und Klein
CATEGORIES:Veranstaltung
ATTACH;FMTTYPE=image/png:https://www.autarkia.info/wp-content/uploads/2019/09/M-B-H-Mü-F-D_AnimalsUnited.png
END:VEVENT
END:VCALENDAR