BEGIN:VCALENDAR
VERSION:2.0
PRODID:-//Autarkia - Green World Tour - ECPv6.15.20//NONSGML v1.0//EN
CALSCALE:GREGORIAN
METHOD:PUBLISH
X-ORIGINAL-URL:https://www.autarkia.info
X-WR-CALDESC:Veranstaltungen für Autarkia - Green World Tour
REFRESH-INTERVAL;VALUE=DURATION:PT1H
X-Robots-Tag:noindex
X-PUBLISHED-TTL:PT1H
BEGIN:VTIMEZONE
TZID:Europe/Berlin
BEGIN:DAYLIGHT
TZOFFSETFROM:+0100
TZOFFSETTO:+0200
TZNAME:CEST
DTSTART:20190331T010000
END:DAYLIGHT
BEGIN:STANDARD
TZOFFSETFROM:+0200
TZOFFSETTO:+0100
TZNAME:CET
DTSTART:20191027T010000
END:STANDARD
BEGIN:DAYLIGHT
TZOFFSETFROM:+0100
TZOFFSETTO:+0200
TZNAME:CEST
DTSTART:20200329T010000
END:DAYLIGHT
BEGIN:STANDARD
TZOFFSETFROM:+0200
TZOFFSETTO:+0100
TZNAME:CET
DTSTART:20201025T010000
END:STANDARD
BEGIN:DAYLIGHT
TZOFFSETFROM:+0100
TZOFFSETTO:+0200
TZNAME:CEST
DTSTART:20210328T010000
END:DAYLIGHT
BEGIN:STANDARD
TZOFFSETFROM:+0200
TZOFFSETTO:+0100
TZNAME:CET
DTSTART:20211031T010000
END:STANDARD
END:VTIMEZONE
BEGIN:VEVENT
DTSTART;TZID=Europe/Berlin:20201107T120000
DTEND;TZID=Europe/Berlin:20201107T122000
DTSTAMP:20260422T054644
CREATED:20200309T115956Z
LAST-MODIFIED:20200429T143306Z
UID:23024-1604750400-1604751600@www.autarkia.info
SUMMARY:bookitgreen und samebutgreen - der Kampf für nachhaltigeres Reisen - Moritz Hintze
DESCRIPTION:Nachhaltigkeit beim Reisen wird aktuell zu einem immer größeren Thema\, gleichzeitig steigt die Anzahl an Kreuzfahrttouristen und große Unternehmen sehen Nachhaltigkeit eher als Kommunikationsmethode und verändern ihre Wertschöpfungskette (noch) nicht. Immer wieder heißt es aus Wirtschaft und Politik\, wir hätten die Entscheidungsgewalt durch die Art\, wie wir konsumieren. Aber ist das wirklich so? Welche Lösungsansätze gibt es\, im Großen und im Kleinen? \nEin Blick auf das Thema von Moritz\, dem Gründer von  bookitgreen  und  samebutgreen. Mit  bookitgreen  versuchen sein Mitgründer Phillip und er\, nachhaltige Ferienunterkünfte unkompliziert online buchbar zu machen und  samebutgreen  ist die passende Marke für nachhaltige Reiseprodukte. \nNeben seiner Tätigkeit als Gründer von  bookitgreen  und  samebutgreen  war Moritz bis Ende 2019 Vollzeit bei Schacht One\, der Digital Unit der Haniel Gruppe\, in Essen auf Zeche Zollverein beschäftigt und hat dort an innovativen Ideen und neuen Geschäftsmodellen gearbeitet.
URL:https://www.autarkia.info/event/bookitgreen-und-samebutgreen-der-kampf-fuer-nachhaltigeres-reisen-moritz-hintze/
LOCATION:Vortragssaal
ATTACH;FMTTYPE=image/jpeg:https://www.autarkia.info/wp-content/uploads/2020/03/bookitgreen_logo.jpg
END:VEVENT
BEGIN:VEVENT
DTSTART;TZID=Europe/Berlin:20201107T123000
DTEND;TZID=Europe/Berlin:20201107T125000
DTSTAMP:20260422T054644
CREATED:20201001T070403Z
LAST-MODIFIED:20201022T131319Z
UID:30069-1604752200-1604753400@www.autarkia.info
SUMMARY:GUTES GELD FAIRÄNDERT DIE WELT - Horst Rehfuss
DESCRIPTION:Geld anlegen ist ein Problem geworden: der Zins ist im Keller\, die Angebote sind undurchsichtig und finanzieren oft fragwürdige Geschäfte. Welche Alternativen es gibt und wie aus Geld GUTES GELD wird\, zeigen wir am Beispiel der internationalen Kreditgenossenschaft Oikocredit.
URL:https://www.autarkia.info/event/gutes-geld-fairaendert-die-welt-horst-rehfuss/
LOCATION:Vortragssaal
CATEGORIES:Veranstaltung
ATTACH;FMTTYPE=image/jpeg:https://www.autarkia.info/wp-content/uploads/2020/10/oikocreditbw_logo.jpg
END:VEVENT
BEGIN:VEVENT
DTSTART;TZID=Europe/Berlin:20201107T141500
DTEND;TZID=Europe/Berlin:20201107T143500
DTSTAMP:20260422T054644
CREATED:20201007T071450Z
LAST-MODIFIED:20201019T145037Z
UID:23012-1604758500-1604759700@www.autarkia.info
SUMMARY:5 Prinzipien für eine natürlich gesunde Ernährung - Christina Dosch
DESCRIPTION:Volkskrankheit Fast Food? Nein danke. Wir wissen\, dass Gesundheit durch den Magen geht. Mit unserer Nahrung versorgen wir unseren Körper mit Vitaminen\, lebenswichtigen Mineralstoffen und auch mit Energie. Unser Ziel ist es\, durch eine ausgewogene\, pflanzenbasierte Ernährung nachhaltig zum Wohlfühlgewicht zu kommen und langfristig mehr Lebenskraft zu spüren.
URL:https://www.autarkia.info/event/5-prinzipien-fuer-eine-natuerlich-gesunde-ernaehrung-christina-dosch/
LOCATION:Erlebnis Stage für Groß und Klein
ATTACH;FMTTYPE=image/jpeg:https://www.autarkia.info/wp-content/uploads/2020/03/christinadosch_logo.jpg
END:VEVENT
BEGIN:VEVENT
DTSTART;TZID=Europe/Berlin:20201107T154500
DTEND;TZID=Europe/Berlin:20201107T160500
DTSTAMP:20260422T054644
CREATED:20191117T185833Z
LAST-MODIFIED:20200429T143916Z
UID:20878-1604763900-1604765100@www.autarkia.info
SUMMARY:Eine gesetzliche Krankenkasse\, die klimaneutral handelt\, als Pionier-Unternehmen in der Gemeinwohl-Ökonomie gilt und mit dem Klimaschutzpreis der Vereinten Nationen ausgezeichnet wurde? Die gibt’s tatsächlich! - Stephan Lampel
DESCRIPTION:Die gibt es tatsächlich! Wir glauben daran\, dass der Ursprung von Wohlbefinden im bewussten Umgang mit sich selbst\, seinen Mitmenschen und der Umwelt liegt. Die persönliche Gesundheit und die Gesundheit unseres Planeten sind untrennbar miteinander verbunden – deswegen verstehen wir Nachhaltigkeit als integralen Bestandteil unseres Kernauftrages: Gesundheit zu fördern\, zu erhalten und wiederherzustellen.  \nIn unserem Vortrag möchten wir euch darlegen\, warum uns Nachhaltigkeit so wichtig ist\, was wir schon alles erreicht haben und wohin die Reise gehen wird. Vielleicht ja sogar gemeinsam? \n  \n 
URL:https://www.autarkia.info/event/eine-gesetzliche-krankenkasse-die-klimaneutral-handelt-als-pionier-unternehmen-in-der-gemeinwohl-oekonomie-gilt-und-mit-dem-klimaschutzpreis-der-vereinten-nationen-ausgezeichnet-wurde-die-gibt-2/
LOCATION:Vortragssaal
CATEGORIES:Veranstaltung
ATTACH;FMTTYPE=image/png:https://www.autarkia.info/wp-content/uploads/2019/09/profile_photo-190x190-2.png
END:VEVENT
BEGIN:VEVENT
DTSTART;TZID=Europe/Berlin:20201107T170000
DTEND;TZID=Europe/Berlin:20201107T181000
DTSTAMP:20260422T054644
CREATED:20200124T165658Z
LAST-MODIFIED:20200429T143509Z
UID:21787-1604768400-1604772600@www.autarkia.info
SUMMARY:Filmvorführung: "Heißes Pflaster Stadt – Warum wir mehr Pflanzen brauchen"
DESCRIPTION:Üppig wuchernde Pflanzen umhüllen Gebäude. Mitten in der Großstadt wird Gemüse angebaut\, und Wälder entstehen auf Hochhäusern. Was nach Zukunftsvision klingt\, ist in vielen Großstädten bereits Wirklichkeit. Derzeit sind Städte für 80 Prozent des globalen CO2-Ausstoßes verantwortlich und verbrauchen 75 Prozent der Energie. Pflanzen sollen die Auswirkungen von Urbanisierung und Klimawandel mildern.  \n  \nÖsterreich 2018\, 52 min.
URL:https://www.autarkia.info/event/filmvorfuehrung-heisses-pflaster-stadt-warum-wir-mehr-pflanzen-brauchen/
LOCATION:Vortragssaal
ATTACH;FMTTYPE=image/jpeg:https://www.autarkia.info/wp-content/uploads/2020/01/naturvision_logo.jpg
END:VEVENT
END:VCALENDAR