BEGIN:VCALENDAR
VERSION:2.0
PRODID:-//Autarkia - Green World Tour - ECPv6.15.20//NONSGML v1.0//EN
CALSCALE:GREGORIAN
METHOD:PUBLISH
X-WR-CALNAME:Autarkia - Green World Tour
X-ORIGINAL-URL:https://www.autarkia.info
X-WR-CALDESC:Veranstaltungen für Autarkia - Green World Tour
REFRESH-INTERVAL;VALUE=DURATION:PT1H
X-Robots-Tag:noindex
X-PUBLISHED-TTL:PT1H
BEGIN:VTIMEZONE
TZID:Europe/Berlin
BEGIN:DAYLIGHT
TZOFFSETFROM:+0100
TZOFFSETTO:+0200
TZNAME:CEST
DTSTART:20190331T010000
END:DAYLIGHT
BEGIN:STANDARD
TZOFFSETFROM:+0200
TZOFFSETTO:+0100
TZNAME:CET
DTSTART:20191027T010000
END:STANDARD
BEGIN:DAYLIGHT
TZOFFSETFROM:+0100
TZOFFSETTO:+0200
TZNAME:CEST
DTSTART:20200329T010000
END:DAYLIGHT
BEGIN:STANDARD
TZOFFSETFROM:+0200
TZOFFSETTO:+0100
TZNAME:CET
DTSTART:20201025T010000
END:STANDARD
BEGIN:DAYLIGHT
TZOFFSETFROM:+0100
TZOFFSETTO:+0200
TZNAME:CEST
DTSTART:20210328T010000
END:DAYLIGHT
BEGIN:STANDARD
TZOFFSETFROM:+0200
TZOFFSETTO:+0100
TZNAME:CET
DTSTART:20211031T010000
END:STANDARD
END:VTIMEZONE
BEGIN:VEVENT
DTSTART;TZID=Europe/Berlin:20201108T120000
DTEND;TZID=Europe/Berlin:20201108T122000
DTSTAMP:20260422T072911
CREATED:20200429T151255Z
LAST-MODIFIED:20200429T151255Z
UID:23305-1604836800-1604838000@www.autarkia.info
SUMMARY:Energieberatung
DESCRIPTION:
URL:https://www.autarkia.info/event/energieberatung/
LOCATION:Vortragssaal
ATTACH;FMTTYPE=image/png:https://www.autarkia.info/wp-content/uploads/2018/08/Verbraucherzentrale_Logo.png
END:VEVENT
BEGIN:VEVENT
DTSTART;TZID=Europe/Berlin:20201108T130000
DTEND;TZID=Europe/Berlin:20201108T132000
DTSTAMP:20260422T072911
CREATED:20200309T121003Z
LAST-MODIFIED:20200429T144504Z
UID:23034-1604840400-1604841600@www.autarkia.info
SUMMARY:bookitgreen und samebutgreen - der Kampf für nachhaltigeres Reisen - Moritz Hintze
DESCRIPTION:Nachhaltigkeit beim Reisen wird aktuell zu einem immer größeren Thema\, gleichzeitig steigt die Anzahl an Kreuzfahrttouristen und große Unternehmen sehen Nachhaltigkeit eher als Kommunikationsmethode und verändern ihre Wertschöpfungskette (noch) nicht. Immer wieder heißt es aus Wirtschaft und Politik\, wir hätten die Entscheidungsgewalt durch die Art\, wie wir konsumieren. Aber ist das wirklich so? Welche Lösungsansätze gibt es\, im Großen und im Kleinen? \nEin Blick auf das Thema von Moritz\, dem Gründer von  bookitgreen  und  samebutgreen. Mit  bookitgreen  versuchen sein Mitgründer Phillip und er\, nachhaltige Ferienunterkünfte unkompliziert online buchbar zu machen und  samebutgreen  ist die passende Marke für nachhaltige Reiseprodukte. \nNeben seiner Tätigkeit als Gründer von  bookitgreen  und  samebutgreen  war Moritz bis Ende 2019 Vollzeit bei Schacht One\, der Digital Unit der Haniel Gruppe\, in Essen auf Zeche Zollverein beschäftigt und hat dort an innovativen Ideen und neuen Geschäftsmodellen gearbeitet.
URL:https://www.autarkia.info/event/bookitgreen-und-samebutgreen-der-kampf-fuer-nachhaltigeres-reisen-moritz-hintze-2/
LOCATION:Vortragssaal
ATTACH;FMTTYPE=image/jpeg:https://www.autarkia.info/wp-content/uploads/2020/03/bookitgreen_logo.jpg
END:VEVENT
BEGIN:VEVENT
DTSTART;TZID=Europe/Berlin:20201108T141500
DTEND;TZID=Europe/Berlin:20201108T143500
DTSTAMP:20260422T072911
CREATED:20200210T113450Z
LAST-MODIFIED:20200429T145107Z
UID:22299-1604844900-1604846100@www.autarkia.info
SUMMARY:So wird mein eigenes Event nachhaltig - Lars Siepmann & Michael Lülf
DESCRIPTION:
URL:https://www.autarkia.info/event/so-wird-mein-eigenes-event-nachhaltig-lars-siepmann-michael-luelf-3/
LOCATION:Erlebnis Stage für Groß und Klein
CATEGORIES:Veranstaltung
ATTACH;FMTTYPE=image/jpeg:https://www.autarkia.info/wp-content/uploads/2019/11/Greevent_Logo.jpg
END:VEVENT
END:VCALENDAR