BEGIN:VCALENDAR
VERSION:2.0
PRODID:-//Autarkia - Green World Tour - ECPv6.15.20//NONSGML v1.0//EN
CALSCALE:GREGORIAN
METHOD:PUBLISH
X-WR-CALNAME:Autarkia - Green World Tour
X-ORIGINAL-URL:https://www.autarkia.info
X-WR-CALDESC:Veranstaltungen für Autarkia - Green World Tour
REFRESH-INTERVAL;VALUE=DURATION:PT1H
X-Robots-Tag:noindex
X-PUBLISHED-TTL:PT1H
BEGIN:VTIMEZONE
TZID:Europe/Berlin
BEGIN:DAYLIGHT
TZOFFSETFROM:+0100
TZOFFSETTO:+0200
TZNAME:CEST
DTSTART:20190331T010000
END:DAYLIGHT
BEGIN:STANDARD
TZOFFSETFROM:+0200
TZOFFSETTO:+0100
TZNAME:CET
DTSTART:20191027T010000
END:STANDARD
BEGIN:DAYLIGHT
TZOFFSETFROM:+0100
TZOFFSETTO:+0200
TZNAME:CEST
DTSTART:20200329T010000
END:DAYLIGHT
BEGIN:STANDARD
TZOFFSETFROM:+0200
TZOFFSETTO:+0100
TZNAME:CET
DTSTART:20201025T010000
END:STANDARD
BEGIN:DAYLIGHT
TZOFFSETFROM:+0100
TZOFFSETTO:+0200
TZNAME:CEST
DTSTART:20210328T010000
END:DAYLIGHT
BEGIN:STANDARD
TZOFFSETFROM:+0200
TZOFFSETTO:+0100
TZNAME:CET
DTSTART:20211031T010000
END:STANDARD
END:VTIMEZONE
BEGIN:VEVENT
DTSTART;TZID=Europe/Berlin:20201120T130000
DTEND;TZID=Europe/Berlin:20201120T132000
DTSTAMP:20260422T111331
CREATED:20201019T155836Z
LAST-MODIFIED:20201019T155836Z
UID:30527-1605877200-1605878400@www.autarkia.info
SUMMARY:Fakten zum Tierwohl - Regina Scholz
DESCRIPTION:
URL:https://www.autarkia.info/event/fakten-zum-tierwohl-regina-scholz/
LOCATION:Vortragssaal
ATTACH;FMTTYPE=image/jpeg:https://www.autarkia.info/wp-content/uploads/2019/11/Verbraucherzentrale_Hesse_Logo.jpg
END:VEVENT
BEGIN:VEVENT
DTSTART;TZID=Europe/Berlin:20201120T141500
DTEND;TZID=Europe/Berlin:20201120T143500
DTSTAMP:20260422T111331
CREATED:20200930T140709Z
LAST-MODIFIED:20201019T161110Z
UID:27766-1605881700-1605882900@www.autarkia.info
SUMMARY:fairzinsung - fairsorge = nachhaltig agieren bei Geldanlagen und Versicherungen - Andreas Mankel
DESCRIPTION:Nachhaltige Investments – fairzinsen Sie Ihr Geld doch einfach. \nFairzinsung ist die Plattform für verantwortungsvolle Anleger\, die in ökologisch und sozial nachhaltige Projekte wie Solarparks\, Baumplantagen\, Kitas oder Senioren-WGs investieren. Daraus entstehen langfristig Erträge etwa durch Stromverkauf oder Vermietung. Und dabei gewinnen alle: die Umwelt\, die Menschen in ihrer Region und Sie als Anleger!
URL:https://www.autarkia.info/event/fairzinsung-fairsorge-nachhaltig-agieren-bei-geldanlagen-und-versicherungen-andreas-mankel-2/
LOCATION:Erlebnis Stage für Groß und Klein
ATTACH;FMTTYPE=image/jpeg:https://www.autarkia.info/wp-content/uploads/2020/02/7x7finanz.jpg
END:VEVENT
BEGIN:VEVENT
DTSTART;TZID=Europe/Berlin:20201120T144500
DTEND;TZID=Europe/Berlin:20201120T150500
DTSTAMP:20260422T111331
CREATED:20201019T161454Z
LAST-MODIFIED:20201019T161454Z
UID:30531-1605883500-1605884700@www.autarkia.info
SUMMARY:5 Prinzipien für eine natürlich gesunde Ernährung – Christina Dosch
DESCRIPTION:Volkskrankheit Fast Food? Nein danke. Wir wissen\, dass Gesundheit durch den Magen geht. Mit unserer Nahrung versorgen wir unseren Körper mit Vitaminen\, lebenswichtigen Mineralstoffen und auch mit Energie. Unser Ziel ist es\, durch eine ausgewogene\, pflanzenbasierte Ernährung nachhaltig zum Wohlfühlgewicht zu kommen und langfristig mehr Lebenskraft zu spüren.
URL:https://www.autarkia.info/event/5-prinzipien-fuer-eine-natuerlich-gesunde-ernaehrung-christina-dosch-2/
LOCATION:Erlebnis Stage für Groß und Klein
ATTACH;FMTTYPE=image/jpeg:https://www.autarkia.info/wp-content/uploads/2020/03/christinadosch_logo.jpg
END:VEVENT
END:VCALENDAR