BEGIN:VCALENDAR
VERSION:2.0
PRODID:-//Autarkia - Green World Tour - ECPv6.15.20//NONSGML v1.0//EN
CALSCALE:GREGORIAN
METHOD:PUBLISH
X-WR-CALNAME:Autarkia - Green World Tour
X-ORIGINAL-URL:https://www.autarkia.info
X-WR-CALDESC:Veranstaltungen für Autarkia - Green World Tour
REFRESH-INTERVAL;VALUE=DURATION:PT1H
X-Robots-Tag:noindex
X-PUBLISHED-TTL:PT1H
BEGIN:VTIMEZONE
TZID:Europe/Berlin
BEGIN:DAYLIGHT
TZOFFSETFROM:+0100
TZOFFSETTO:+0200
TZNAME:CEST
DTSTART:20200329T010000
END:DAYLIGHT
BEGIN:STANDARD
TZOFFSETFROM:+0200
TZOFFSETTO:+0100
TZNAME:CET
DTSTART:20201025T010000
END:STANDARD
BEGIN:DAYLIGHT
TZOFFSETFROM:+0100
TZOFFSETTO:+0200
TZNAME:CEST
DTSTART:20210328T010000
END:DAYLIGHT
BEGIN:STANDARD
TZOFFSETFROM:+0200
TZOFFSETTO:+0100
TZNAME:CET
DTSTART:20211031T010000
END:STANDARD
BEGIN:DAYLIGHT
TZOFFSETFROM:+0100
TZOFFSETTO:+0200
TZNAME:CEST
DTSTART:20220327T010000
END:DAYLIGHT
BEGIN:STANDARD
TZOFFSETFROM:+0200
TZOFFSETTO:+0100
TZNAME:CET
DTSTART:20221030T010000
END:STANDARD
END:VTIMEZONE
BEGIN:VEVENT
DTSTART;TZID=Europe/Berlin:20210619T130000
DTEND;TZID=Europe/Berlin:20210619T132000
DTSTAMP:20260423T024949
CREATED:20210207T145707Z
LAST-MODIFIED:20210207T145841Z
UID:30761-1624107600-1624108800@www.autarkia.info
SUMMARY:Kunststoffe und Mikroplastik: Vom Alltagshelfer zum Umweltproblem - Dr. Katrin Schuhen
DESCRIPTION:Wie bitte konnte das geschehen? \nPlastik und Mikroplastik ist überall. In unseren Ökosystemen. In Tieren. In Menschen. Um der zunehmenden Belastung effektive Maßnahmen entgegen zu setzen\, gilt es zu verstehen\, wie aus unserem Alltagshelfer Kunststoff ein Umweltproblem geworden ist\, das täglich massiv zunimmt und erhebliche gesundheitliche Risiken für Mensch und Tier birgt. Dr. Katrin Schuhen wird darüber in ihrem Vortrag berichten. Sie ist Erfinderin und Gründerin des non-profit Unternehmens Wasser 3.0 und beschäftigt sich seit vielen Jahren mit dem Thema der effektiven Entfernung von Mikroplastik aus unserem Wasser.
URL:https://www.autarkia.info/event/kunststoffe-und-mikroplastik-vom-alltagshelfer-zum-umweltproblem-dr-katrin-schuhen-copy/
LOCATION:Vortragssaal
CATEGORIES:Veranstaltung
ATTACH;FMTTYPE=image/png:https://www.autarkia.info/wp-content/uploads/2020/10/Wasser-3.0-Logo.png
END:VEVENT
BEGIN:VEVENT
DTSTART;TZID=Europe/Berlin:20210619T134500
DTEND;TZID=Europe/Berlin:20210619T140500
DTSTAMP:20260423T024949
CREATED:20200206T110438Z
LAST-MODIFIED:20210207T150210Z
UID:22150-1624110300-1624111500@www.autarkia.info
SUMMARY:Urlaub in BERGSTEIGERDÖRFERN im Sinne der ALPENKONVENTION - Helga Beermeister
DESCRIPTION:Bergsteigerdörfer: Klasse statt Masse – Genuss statt Hektik  \n29 Dörfer\, 4 Länder\, 1 gemeinsames Ziel: das Netzwerk der Bergsteigerdörfer strebt gemeinsam danach\, den naturnahen und ressourcenschonenden Tourismus zu fördern.  \nIm Tiroler Wipptal befinden sich gleich zwei Bergsteigerdörfer: das Gschnitztal und St. Jodok mit dem Schmirn- und Valsertal (Infos: www.bergsteigerdörfer.at)  \nOrte zum Genießen und Verweilen  \nBergsteigerdörfer haben ein wertvolles Kapital: unverfälschte alpine Landschaft und Natur\, gelebte Tradition\, regionale Produkte\, Authentizität und Affinität zum Bergsport …und eine Bevölkerung die genau diese Werte lebt und unterstützt!  \nDie Initiative „Bergsteigerdörfer“ wurde 2008 durch den Österreichischen Alpenverein ins Leben gerufen. Es wurden Orte ausgewählt\, die im Schatten der großen Tourismusdestinationen stehen und sich eben nicht dem immer schneller werdenden „Erschließungs-Kapital-Event-Kreisel“ angeschlossen haben.   \nDie Initiative wurde mittlerweile auf Deutschland\, Italien und Slowenien ausgeweitet.
URL:https://www.autarkia.info/event/urlaub-in-bergsteigerdoerfern-im-sinne-der-alpenkonvention-helga-beermeister/
LOCATION:Erlebnis Stage für Groß und Klein
CATEGORIES:Veranstaltung
ATTACH;FMTTYPE=image/jpeg:https://www.autarkia.info/wp-content/uploads/2020/02/wipptal_logo.jpg
END:VEVENT
END:VCALENDAR