BEGIN:VCALENDAR
VERSION:2.0
PRODID:-//Autarkia - Green World Tour - ECPv6.15.20//NONSGML v1.0//EN
CALSCALE:GREGORIAN
METHOD:PUBLISH
X-WR-CALNAME:Autarkia - Green World Tour
X-ORIGINAL-URL:https://www.autarkia.info
X-WR-CALDESC:Veranstaltungen für Autarkia - Green World Tour
REFRESH-INTERVAL;VALUE=DURATION:PT1H
X-Robots-Tag:noindex
X-PUBLISHED-TTL:PT1H
BEGIN:VTIMEZONE
TZID:Europe/Berlin
BEGIN:DAYLIGHT
TZOFFSETFROM:+0100
TZOFFSETTO:+0200
TZNAME:CEST
DTSTART:20200329T010000
END:DAYLIGHT
BEGIN:STANDARD
TZOFFSETFROM:+0200
TZOFFSETTO:+0100
TZNAME:CET
DTSTART:20201025T010000
END:STANDARD
BEGIN:DAYLIGHT
TZOFFSETFROM:+0100
TZOFFSETTO:+0200
TZNAME:CEST
DTSTART:20210328T010000
END:DAYLIGHT
BEGIN:STANDARD
TZOFFSETFROM:+0200
TZOFFSETTO:+0100
TZNAME:CET
DTSTART:20211031T010000
END:STANDARD
BEGIN:DAYLIGHT
TZOFFSETFROM:+0100
TZOFFSETTO:+0200
TZNAME:CEST
DTSTART:20220327T010000
END:DAYLIGHT
BEGIN:STANDARD
TZOFFSETFROM:+0200
TZOFFSETTO:+0100
TZNAME:CET
DTSTART:20221030T010000
END:STANDARD
END:VTIMEZONE
BEGIN:VEVENT
DTSTART;TZID=Europe/Berlin:20210620T170000
DTEND;TZID=Europe/Berlin:20210620T172000
DTSTAMP:20260423T043924
CREATED:20210207T150731Z
LAST-MODIFIED:20210222T154838Z
UID:30763-1624208400-1624209600@www.autarkia.info
SUMMARY:Die umweltfreundliche Ernährung\, wie gesund ist diese? - Andreas Naumann
DESCRIPTION:Bei der Auswahl der Lebensmittel gibt es unterschiedliche Ansätze\, um die Nachhaltigkeit der Produkte zu erhöhen. Dabei ist es aber auch wichtig\, neben Umweltauswirkungen\, Genuss und Bekömmlichkeit insbesondere die eigene Gesundheit zu beachten. Im Vortrag werden aufgezeigt\, welche Aspekte eine Rolle spielen\, wie sie zueinanderstehen und welche Gemeinsamkeiten Umweltschutz mit der gesündesten Ernährung hat. Es gibt viele Möglichkeiten wie Sie die umweltfreundliche Ernährung umsetzen können. \nMit vreundlicher Unterstützung der V³-Partei.
URL:https://www.autarkia.info/event/die-umweltfreundliche-ernaehrung-wie-gesund-ist-diese-andreas-naumann/
LOCATION:Vortragssaal
CATEGORIES:Veranstaltung
ATTACH;FMTTYPE=image/jpeg:https://www.autarkia.info/wp-content/uploads/2021/02/v-partei-logo.jpg
END:VEVENT
END:VCALENDAR