BEGIN:VCALENDAR
VERSION:2.0
PRODID:-//Autarkia - Green World Tour - ECPv6.15.20//NONSGML v1.0//EN
CALSCALE:GREGORIAN
METHOD:PUBLISH
X-WR-CALNAME:Autarkia - Green World Tour
X-ORIGINAL-URL:https://www.autarkia.info
X-WR-CALDESC:Veranstaltungen für Autarkia - Green World Tour
REFRESH-INTERVAL;VALUE=DURATION:PT1H
X-Robots-Tag:noindex
X-PUBLISHED-TTL:PT1H
BEGIN:VTIMEZONE
TZID:Europe/Berlin
BEGIN:DAYLIGHT
TZOFFSETFROM:+0100
TZOFFSETTO:+0200
TZNAME:CEST
DTSTART:20200329T010000
END:DAYLIGHT
BEGIN:STANDARD
TZOFFSETFROM:+0200
TZOFFSETTO:+0100
TZNAME:CET
DTSTART:20201025T010000
END:STANDARD
BEGIN:DAYLIGHT
TZOFFSETFROM:+0100
TZOFFSETTO:+0200
TZNAME:CEST
DTSTART:20210328T010000
END:DAYLIGHT
BEGIN:STANDARD
TZOFFSETFROM:+0200
TZOFFSETTO:+0100
TZNAME:CET
DTSTART:20211031T010000
END:STANDARD
BEGIN:DAYLIGHT
TZOFFSETFROM:+0100
TZOFFSETTO:+0200
TZNAME:CEST
DTSTART:20220327T010000
END:DAYLIGHT
BEGIN:STANDARD
TZOFFSETFROM:+0200
TZOFFSETTO:+0100
TZNAME:CET
DTSTART:20221030T010000
END:STANDARD
END:VTIMEZONE
BEGIN:VEVENT
DTSTART;TZID=Europe/Berlin:20210626T131500
DTEND;TZID=Europe/Berlin:20210626T133500
DTSTAMP:20260423T082122
CREATED:20200309T120510Z
LAST-MODIFIED:20210210T091303Z
UID:23030-1624713300-1624714500@www.autarkia.info
SUMMARY:Einfach Unabhängig mit blue-oak - Rafael Lang
DESCRIPTION:
URL:https://www.autarkia.info/event/einfach-unabhaengig-mit-blue-oak-rafael-lang/
LOCATION:Erlebnis Stage für Groß und Klein
CATEGORIES:Veranstaltung
ATTACH;FMTTYPE=image/jpeg:https://www.autarkia.info/wp-content/uploads/2020/03/blue-aok-logo.jpg
END:VEVENT
BEGIN:VEVENT
DTSTART;TZID=Europe/Berlin:20210626T133000
DTEND;TZID=Europe/Berlin:20210626T135000
DTSTAMP:20260423T082122
CREATED:20210208T131034Z
LAST-MODIFIED:20210212T090159Z
UID:30768-1624714200-1624715400@www.autarkia.info
SUMMARY:Gemeinwohl-Ökonomie: ein Gesellschafts- und Wirtschaftsmodell mit Zukunft - Ulrike Häußler & Dr. Ulrich Wiek
DESCRIPTION:Die Gemeinwohl-Ökonomie (GWÖ) ist ein neues Wirtschaftsmodell\, das auf den Werten Menschenwürde\, Solidarität\, Gerechtigkeit\, Nachhaltigkeit und Mitentscheidung aufbaut. Das Gelingen von Beziehungen zwischen den Menschen untereinander und zur Umwelt sowie ein gutes Leben für alle werden zu den zentralen Zielen der Wirtschaft. Die Gemeinwohl-Ökonomie ermöglicht Schritte für den Wandel von Wirtschaft\, Politik und Gesellschaft.  \nWie wirkt sich das aus?  \n\nStärker gemeinwohlorientierte Unternehmen und langlebige\, nachhaltige Produkte setzen sich durch. \nMehr Wertschöpfung bleibt in der Region. \nGute und sinnvolle Arbeitsplätze entstehen. \nDer Umgang in den Betrieben wird menschlicher. \nDie Ungleichheit in der Gesellschaft geht zurück. \nUmwelt und Klima werden global entlastet\n\n\nIn dem Vortrag werden die wichtigsten Eckpfeiler der GWÖ erläutert und Wege an praktischen Beispielen aufgezeigt\, wie Sie aktiv mitwirken können.
URL:https://www.autarkia.info/event/gemeinwohl-oekonomie-ein-gesellschafts-und-wirtschaftsmodell-mit-zukunft-ulrike-haeussler-dr-ulrich-wiek-2-copy/
LOCATION:Vortragssaal
CATEGORIES:Veranstaltung
ATTACH;FMTTYPE=image/png:https://www.autarkia.info/wp-content/uploads/2020/01/gemeinwohlbw.png
END:VEVENT
BEGIN:VEVENT
DTSTART;TZID=Europe/Berlin:20210626T140000
DTEND;TZID=Europe/Berlin:20210626T142000
DTSTAMP:20260423T082122
CREATED:20200429T150407Z
LAST-MODIFIED:20210208T132548Z
UID:23295-1624716000-1624717200@www.autarkia.info
SUMMARY:Warum Klimagerechtigkeit immer ein Kampf gegen Rassismus\, Sexismus und soziale Ungerechtigkeit ist - Sophie Weiss und Nadine Theisen
DESCRIPTION:
URL:https://www.autarkia.info/event/warum-klimagerechtigkeit-immer-ein-kampf-gegen-rassismus-sexismus-und-soziale-ungerechtigkeit-ist/
LOCATION:Vortragssaal
CATEGORIES:Veranstaltung
ATTACH;FMTTYPE=image/png:https://www.autarkia.info/wp-content/uploads/2020/04/FFFHeidelberg.png
END:VEVENT
BEGIN:VEVENT
DTSTART;TZID=Europe/Berlin:20210626T141500
DTEND;TZID=Europe/Berlin:20210626T143500
DTSTAMP:20260423T082122
CREATED:20210210T092024Z
LAST-MODIFIED:20210210T092228Z
UID:30786-1624716900-1624718100@www.autarkia.info
SUMMARY:5 Prinzipien für eine vollwertig vegane Ernährung - Christina Dosch
DESCRIPTION:
URL:https://www.autarkia.info/event/5-prinzipien-fuer-eine-vollwertig-vegane-ernaehrung-christina-dosch-copy/
LOCATION:Erlebnis Stage für Groß und Klein
CATEGORIES:Veranstaltung
ATTACH;FMTTYPE=image/jpeg:https://www.autarkia.info/wp-content/uploads/2020/03/christinadosch_logo.jpg
ORGANIZER;CN="Christina Dosch":MAILTO:mail@christinadosch.com
END:VEVENT
BEGIN:VEVENT
DTSTART;TZID=Europe/Berlin:20210626T150000
DTEND;TZID=Europe/Berlin:20210626T152000
DTSTAMP:20260423T082122
CREATED:20200429T150547Z
LAST-MODIFIED:20210209T091609Z
UID:23300-1624719600-1624720800@www.autarkia.info
SUMMARY:Gutes Sehen - Für Millionen von Menschen bisher ein unerfüllter Traum
DESCRIPTION:
URL:https://www.autarkia.info/event/gutes-sehen-fuer-millionen-von-menschen-bisher-ein-unerfuellter-traum/
LOCATION:Vortragssaal
CATEGORIES:Veranstaltung
ATTACH;FMTTYPE=image/jpeg:https://www.autarkia.info/wp-content/uploads/2019/09/eindollarbrille_logo-scaled.jpg
END:VEVENT
BEGIN:VEVENT
DTSTART;TZID=Europe/Berlin:20210626T153000
DTEND;TZID=Europe/Berlin:20210626T155000
DTSTAMP:20260423T082122
CREATED:20200307T080654Z
LAST-MODIFIED:20210223T131900Z
UID:23008-1624721400-1624722600@www.autarkia.info
SUMMARY:Weine aus neuen\, ressourcenschonenden Reben - Ansgar Galler
DESCRIPTION:Die Monokultur Wein leidet unter dem echten und falschen Mehltau. Präventiv müssen die Reben geschützt werden\, um sie gesund zu halten. Neue Rebzüchtungen machen es möglich\, den Pflanzenschutz um 80% und den CO2 Ausstoß drastisch zu reduzieren. Überzeugen Sie sich selbst\, insbesondere vom Geschmack dieser Weine!
URL:https://www.autarkia.info/event/weine-aus-neuen-ressourcenschonenden-reben-ansgar-galler/
LOCATION:Vortragssaal
CATEGORIES:Veranstaltung
ATTACH;FMTTYPE=image/png:https://www.autarkia.info/wp-content/uploads/2020/03/weingutgaller_logo.png
END:VEVENT
BEGIN:VEVENT
DTSTART;TZID=Europe/Berlin:20210626T154500
DTEND;TZID=Europe/Berlin:20210626T160500
DTSTAMP:20260423T082122
CREATED:20190920T091810Z
LAST-MODIFIED:20210315T081128Z
UID:19332-1624722300-1624723500@www.autarkia.info
SUMMARY:Eine gesetzliche Krankenkasse\, die klimaneutral handelt\, als Pionier-Unternehmen in der Gemeinwohl-Ökonomie gilt\, Finalist beim deutschen Nachhaltigkeitspreis 2021 war und mit dem Klimaschutzpreis der UNO ausgezeichnet wurde? - Stephan Lampel
DESCRIPTION:Die gibt es tatsächlich! Wir glauben daran\, dass der Ursprung von Wohlbefinden im bewussten Umgang mit sich selbst\, seinen Mitmenschen und der Umwelt liegt. Die persönliche Gesundheit und die Gesundheit unseres Planeten sind untrennbar miteinander verbunden – deswegen verstehen wir Nachhaltigkeit als integralen Bestandteil unseres Kernauftrages: Gesundheit zu fördern\, zu erhalten und wiederherzustellen. \nIn unserem Vortrag möchten wir euch darlegen\, warum uns Nachhaltigkeit so wichtig ist\, was wir schon alles erreicht haben und wohin die Reise gehen wird. Vielleicht ja sogar gemeinsam?
URL:https://www.autarkia.info/event/eine-gesetzliche-krankenkasse-die-klimaneutral-handelt-als-pionier-unternehmen-in-der-gemeinwohl-oekonomie-gilt-und-mit-dem-klimaschutzpreis-der-vereinten-nationen-ausgezeichnet-wurde-die-gibt/
LOCATION:Erlebnis Stage für Groß und Klein
CATEGORIES:Veranstaltung
ATTACH;FMTTYPE=image/png:https://www.autarkia.info/wp-content/uploads/2019/09/profile_photo-190x190-2.png
END:VEVENT
BEGIN:VEVENT
DTSTART;TZID=Europe/Berlin:20210626T161500
DTEND;TZID=Europe/Berlin:20210626T163500
DTSTAMP:20260423T082122
CREATED:20201017T082245Z
LAST-MODIFIED:20210210T092818Z
UID:22460-1624724100-1624725300@www.autarkia.info
SUMMARY:Für Lebensmittelrettung im Einsatz - foodsharing - Isabelle Graf & Linda Born
DESCRIPTION:Hast Du Dich schon mal gefragt\, was mit den süßen Schokohasen in den Supermärkten nach Ostern passiert? Bist Du manchmal erstaunt darüber\, wenn eine Person einen noch gutaussehenden und -riechenden Joghurt wegschmeißt? Verärgert\, weshalb eine braune Banane im Müll landet? \nWir von foodsharing wollen Euch mit auf eine Lebensmittelreise nehmen: Warum ist eigentlich die Banane krumm? Wie können wir den Lebensmitteln und den für sie aufgewendeten Ressourcen wie Anbau\, Ernte\, Verpackung\, Logistik\, Lagerung\, ihren Wert (zurück)geben? Was können wir als Konsument*innen konkret gegen die Lebensmittelverschwendung in unserem globalen Norden und vor allem hier in Heidelberg tun?
URL:https://www.autarkia.info/event/fuer-lebensmittelrettung-im-einsatz-foodsharing-isabelle-graf-linda-born/
LOCATION:Erlebnis Stage für Groß und Klein
CATEGORIES:Veranstaltung
ATTACH;FMTTYPE=image/png:https://www.autarkia.info/wp-content/uploads/2019/11/foodsharing_logo.png
END:VEVENT
END:VCALENDAR