BEGIN:VCALENDAR
VERSION:2.0
PRODID:-//Autarkia - Green World Tour - ECPv6.15.20//NONSGML v1.0//EN
CALSCALE:GREGORIAN
METHOD:PUBLISH
X-WR-CALNAME:Autarkia - Green World Tour
X-ORIGINAL-URL:https://www.autarkia.info
X-WR-CALDESC:Veranstaltungen für Autarkia - Green World Tour
REFRESH-INTERVAL;VALUE=DURATION:PT1H
X-Robots-Tag:noindex
X-PUBLISHED-TTL:PT1H
BEGIN:VTIMEZONE
TZID:Europe/Berlin
BEGIN:DAYLIGHT
TZOFFSETFROM:+0100
TZOFFSETTO:+0200
TZNAME:CEST
DTSTART:20200329T010000
END:DAYLIGHT
BEGIN:STANDARD
TZOFFSETFROM:+0200
TZOFFSETTO:+0100
TZNAME:CET
DTSTART:20201025T010000
END:STANDARD
BEGIN:DAYLIGHT
TZOFFSETFROM:+0100
TZOFFSETTO:+0200
TZNAME:CEST
DTSTART:20210328T010000
END:DAYLIGHT
BEGIN:STANDARD
TZOFFSETFROM:+0200
TZOFFSETTO:+0100
TZNAME:CET
DTSTART:20211031T010000
END:STANDARD
BEGIN:DAYLIGHT
TZOFFSETFROM:+0100
TZOFFSETTO:+0200
TZNAME:CEST
DTSTART:20220327T010000
END:DAYLIGHT
BEGIN:STANDARD
TZOFFSETFROM:+0200
TZOFFSETTO:+0100
TZNAME:CET
DTSTART:20221030T010000
END:STANDARD
END:VTIMEZONE
BEGIN:VEVENT
DTSTART;TZID=Europe/Berlin:20210627T123000
DTEND;TZID=Europe/Berlin:20210627T125000
DTSTAMP:20260423T101913
CREATED:20200221T153304Z
LAST-MODIFIED:20210210T125940Z
UID:22704-1624797000-1624798200@www.autarkia.info
SUMMARY:Aktivismus für Anfänger - Aktiv gegen die Jagd - Ohne Zeit- und Geldaufwand aktiv werden - Kay Metzroth
DESCRIPTION:Jägerlügen mit Fakten widerlegen\nRechtliche Möglichkeiten\nWas darf ich? Welche Schritte kann ich gehen\, um Jäger Ihrer Grausamkeiten zu stoppen?\nAktiv Straftaten/Ordnungswidrigkeiten aufdecken – Wissen was der Jäger darf und nicht darf\nWem melde ich die Straftaten – Ordnungsamt\, Veterinäramt\, Staatsanwaltschaft\, Polizei\nSelbst nicht in die “Schusslinie geraten”
URL:https://www.autarkia.info/event/aktivismus-fuer-anfaenger-aktiv-gegen-die-jagd-ohne-zeit-und-geldaufwand-aktiv-werden-kay-metzroth/
LOCATION:Vortragssaal
CATEGORIES:Veranstaltung
ATTACH;FMTTYPE=image/jpeg:https://www.autarkia.info/wp-content/uploads/2020/02/lifefornature_logo.jpg
END:VEVENT
BEGIN:VEVENT
DTSTART;TZID=Europe/Berlin:20210627T131500
DTEND;TZID=Europe/Berlin:20210627T133500
DTSTAMP:20260423T101913
CREATED:20200929T152122Z
LAST-MODIFIED:20210210T133439Z
UID:23313-1624799700-1624800900@www.autarkia.info
SUMMARY:Gift auf der Haut - hormonell wirksame Chemikalien in Pflegeprodukten - Toby Sulianto (Online-Vortrag)
DESCRIPTION:
URL:https://www.autarkia.info/event/nachhaltige-kosmetik-toby-sulianto/
LOCATION:Erlebnis Stage für Groß und Klein
CATEGORIES:Veranstaltung
ATTACH;FMTTYPE=image/png:https://www.autarkia.info/wp-content/uploads/2020/04/naturalorganics.png
END:VEVENT
BEGIN:VEVENT
DTSTART;TZID=Europe/Berlin:20210627T133000
DTEND;TZID=Europe/Berlin:20210627T135000
DTSTAMP:20260423T101913
CREATED:20200210T114941Z
LAST-MODIFIED:20210212T090239Z
UID:22305-1624800600-1624801800@www.autarkia.info
SUMMARY:Gemeinwohl-Ökonomie: ein Gesellschafts- und Wirtschaftsmodell mit Zukunft - Ulrike Häußler & Dr. Ulrich Wiek
DESCRIPTION:Die Gemeinwohl-Ökonomie (GWÖ) ist ein neues Wirtschaftsmodell\, das auf den Werten Menschenwürde\, Solidarität\, Gerechtigkeit\, Nachhaltigkeit und Mitentscheidung aufbaut. Das Gelingen von Beziehungen zwischen den Menschen untereinander und zur Umwelt sowie ein gutes Leben für alle werden zu den zentralen Zielen der Wirtschaft. Die Gemeinwohl-Ökonomie ermöglicht Schritte für den Wandel von Wirtschaft\, Politik und Gesellschaft.  \nWie wirkt sich das aus?  \n\nStärker gemeinwohlorientierte Unternehmen und langlebige\, nachhaltige Produkte setzen sich durch. \nMehr Wertschöpfung bleibt in der Region. \nGute und sinnvolle Arbeitsplätze entstehen. \nDer Umgang in den Betrieben wird menschlicher. \nDie Ungleichheit in der Gesellschaft geht zurück. \nUmwelt und Klima werden global entlastet\n\n\nIn dem Vortrag werden die wichtigsten Eckpfeiler der GWÖ erläutert und Wege an praktischen Beispielen aufgezeigt\, wie Sie aktiv mitwirken können.
URL:https://www.autarkia.info/event/gemeinwohl-oekonomie-ein-gesellschafts-und-wirtschaftsmodell-mit-zukunft-ulrike-haeussler-dr-ulrich-wiek-2/
LOCATION:Vortragssaal
CATEGORIES:Veranstaltung
ATTACH;FMTTYPE=image/png:https://www.autarkia.info/wp-content/uploads/2020/01/gemeinwohlbw.png
END:VEVENT
BEGIN:VEVENT
DTSTART;TZID=Europe/Berlin:20210627T134500
DTEND;TZID=Europe/Berlin:20210627T140500
DTSTAMP:20260423T101913
CREATED:20200124T173612Z
LAST-MODIFIED:20210210T162853Z
UID:21802-1624801500-1624802700@www.autarkia.info
SUMMARY:Mit Paranüssen die Welt verändern - mit der Erfahrung von über 100 Jahren - Klaus Karch
DESCRIPTION:In 20 Minuten erfahren Sie\, wie die Wildernte von Paranüssen vonstattengeht und warum Sie dem mit Verzehr des selenreichsten Lebensmittels Ihre Gesundheit fördern und dabei den Regenwald retten. \nFairer Deal mit fairem Handeln\, noch bevor Fairtrade erfunden war – meint auch der WWF. \n„Bei Naturressourcen müssen wir von den Zinsen leben\, nicht vom Kapital.“ Friedrich Hecker
URL:https://www.autarkia.info/event/mit-paranuessen-die-welt-veraendern-mit-der-erfahrung-von-ueber-100-jahren-klaus-karch/
LOCATION:Erlebnis Stage für Groß und Klein
CATEGORIES:Veranstaltung
ATTACH;FMTTYPE=image/png:https://www.autarkia.info/wp-content/uploads/2020/01/hylea_logo.png
END:VEVENT
BEGIN:VEVENT
DTSTART;TZID=Europe/Berlin:20210627T140000
DTEND;TZID=Europe/Berlin:20210627T142000
DTSTAMP:20260423T101913
CREATED:20200429T151446Z
LAST-MODIFIED:20210208T132836Z
UID:23307-1624802400-1624803600@www.autarkia.info
SUMMARY:Warum Klimagerechtigkeit immer ein Kampf gegen Rassismus\, Sexismus und soziale Ungerechtigkeit ist - Sophie Weiss und Nadine Theisen
DESCRIPTION:
URL:https://www.autarkia.info/event/warum-klimagerechtigkeit-immer-ein-kampf-gegen-rassismus-sexismus-und-soziale-ungerechtigkeit-ist-sophie-weiss-und-nadine-theisen/
LOCATION:Vortragssaal
CATEGORIES:Veranstaltung
ATTACH;FMTTYPE=image/png:https://www.autarkia.info/wp-content/uploads/2020/04/FFFHeidelberg.png
END:VEVENT
BEGIN:VEVENT
DTSTART;TZID=Europe/Berlin:20210627T143000
DTEND;TZID=Europe/Berlin:20210627T145000
DTSTAMP:20260423T101913
CREATED:20200217T092904Z
LAST-MODIFIED:20210210T130513Z
UID:22463-1624804200-1624805400@www.autarkia.info
SUMMARY:„Werte orientiertes Handeln - schafft Zukunft“ - Andreas Ziegle
DESCRIPTION:Unternehmen stehen heute vor der größten Herausforderung seit der ersten industriellen Revolution.  Die Globalisierung setzt Unternehmen\, auch wenn sie nicht direkt betroffen sind\, unter Zugzwang. Digitalisierung\, Nachhaltigkeit\, Umweltschutz\, Diversität\, Marketing und Kommunikation stehen auch bei kleinen und mittleren Betrieben im Fokus. Kurze Produktzyklen bzw. Dienstleistungen erfordert ein ständiges Nachjustieren in der beruflichen Bildung. Verschärfend kommt hinzu\, das der demographischen Wandel zusätzlich für Engpässe bei Themen wie Nachfolge\, Wachstum\, Mitarbeitergewinnung und das besetzen von Lehr.-bzw. Ausbildungsplätze sorgt. Wie stellen sich Unternehmen diesen Herausforderungen? Welche Lösungen bieten sich an? Was könnten die ersten Schritte in die Zukunft sein?
URL:https://www.autarkia.info/event/werte-orientiertes-handeln-schafft-zukunft-andreas-ziegle/
LOCATION:Vortragssaal
CATEGORIES:Veranstaltung
ATTACH;FMTTYPE=image/jpeg:https://www.autarkia.info/wp-content/uploads/2020/02/laborx_logo.jpg
END:VEVENT
END:VCALENDAR