BEGIN:VCALENDAR
VERSION:2.0
PRODID:-//Autarkia - Green World Tour - ECPv6.15.20//NONSGML v1.0//EN
CALSCALE:GREGORIAN
METHOD:PUBLISH
X-WR-CALNAME:Autarkia - Green World Tour
X-ORIGINAL-URL:https://www.autarkia.info
X-WR-CALDESC:Veranstaltungen für Autarkia - Green World Tour
REFRESH-INTERVAL;VALUE=DURATION:PT1H
X-Robots-Tag:noindex
X-PUBLISHED-TTL:PT1H
BEGIN:VTIMEZONE
TZID:Europe/Berlin
BEGIN:DAYLIGHT
TZOFFSETFROM:+0100
TZOFFSETTO:+0200
TZNAME:CEST
DTSTART:20200329T010000
END:DAYLIGHT
BEGIN:STANDARD
TZOFFSETFROM:+0200
TZOFFSETTO:+0100
TZNAME:CET
DTSTART:20201025T010000
END:STANDARD
BEGIN:DAYLIGHT
TZOFFSETFROM:+0100
TZOFFSETTO:+0200
TZNAME:CEST
DTSTART:20210328T010000
END:DAYLIGHT
BEGIN:STANDARD
TZOFFSETFROM:+0200
TZOFFSETTO:+0100
TZNAME:CET
DTSTART:20211031T010000
END:STANDARD
BEGIN:DAYLIGHT
TZOFFSETFROM:+0100
TZOFFSETTO:+0200
TZNAME:CEST
DTSTART:20220327T010000
END:DAYLIGHT
BEGIN:STANDARD
TZOFFSETFROM:+0200
TZOFFSETTO:+0100
TZNAME:CET
DTSTART:20221030T010000
END:STANDARD
END:VTIMEZONE
BEGIN:VEVENT
DTSTART;TZID=Europe/Berlin:20210901T153000
DTEND;TZID=Europe/Berlin:20210901T155000
DTSTAMP:20260423T170000
CREATED:20220321T141600Z
LAST-MODIFIED:20220405T071954Z
UID:39015-1630510200-1630511400@www.autarkia.info
SUMMARY:Nachhaltige Elektromobilität - Was sollte ich bei dem Umstieg auf Elektromobilität beachten? - Sören Heine
DESCRIPTION:Im Zuge der globalen Erderwärmung stellen sich immer mehr Menschen die Frage: Wie will ich künftig Mobil sein. Was sind die Alternativen oder Ergänzungen zum Auto und den öffentlichen Verkehrsmitteln? Wenn ich umsteige reicht ein Fahrzeug für alle meine Bedürfnisse? Was muß ich bei der Nutzung der Fahrzeuge beachten? Welche Ladeinfrastruktur benötige ich und wie ist das mit dem laden unterwegs? Strom laden kostet wieviel Zeit? Wo und wann lade ich am effektivsten? Welche Fahrzeuge sind für mich am besten geeignet? Wie passe ich meine Fahrweise der Motoreffizienz an? Wie hoch ist der Stromverbrauch der verschiedenen Fahrzeuge? Es gibt viele Fragen rund um die Elektromobilität. Seien Sie neugierig auf die Antworten und öffnen sich für die alternativen Antriebe.
URL:https://www.autarkia.info/event/nachhaltige-elektromobilitaet-was-sollte-ich-bei-dem-umstieg-auf-elektromobilitaet-beachten-soeren-heine/
LOCATION:Vortragssaal
CATEGORIES:Veranstaltung
ATTACH;FMTTYPE=image/png:https://www.autarkia.info/wp-content/uploads/2020/09/Mobile-Stromer_logo.png
END:VEVENT
END:VCALENDAR