BEGIN:VCALENDAR
VERSION:2.0
PRODID:-//Autarkia - Green World Tour - ECPv6.15.20//NONSGML v1.0//EN
CALSCALE:GREGORIAN
METHOD:PUBLISH
X-WR-CALNAME:Autarkia - Green World Tour
X-ORIGINAL-URL:https://www.autarkia.info
X-WR-CALDESC:Veranstaltungen für Autarkia - Green World Tour
REFRESH-INTERVAL;VALUE=DURATION:PT1H
X-Robots-Tag:noindex
X-PUBLISHED-TTL:PT1H
BEGIN:VTIMEZONE
TZID:Europe/Berlin
BEGIN:DAYLIGHT
TZOFFSETFROM:+0100
TZOFFSETTO:+0200
TZNAME:CEST
DTSTART:20200329T010000
END:DAYLIGHT
BEGIN:STANDARD
TZOFFSETFROM:+0200
TZOFFSETTO:+0100
TZNAME:CET
DTSTART:20201025T010000
END:STANDARD
BEGIN:DAYLIGHT
TZOFFSETFROM:+0100
TZOFFSETTO:+0200
TZNAME:CEST
DTSTART:20210328T010000
END:DAYLIGHT
BEGIN:STANDARD
TZOFFSETFROM:+0200
TZOFFSETTO:+0100
TZNAME:CET
DTSTART:20211031T010000
END:STANDARD
BEGIN:DAYLIGHT
TZOFFSETFROM:+0100
TZOFFSETTO:+0200
TZNAME:CEST
DTSTART:20220327T010000
END:DAYLIGHT
BEGIN:STANDARD
TZOFFSETFROM:+0200
TZOFFSETTO:+0100
TZNAME:CET
DTSTART:20221030T010000
END:STANDARD
END:VTIMEZONE
BEGIN:VEVENT
DTSTART;TZID=Europe/Berlin:20211001T144500
DTEND;TZID=Europe/Berlin:20211001T150500
DTSTAMP:20260425T202906
CREATED:20211012T071525Z
LAST-MODIFIED:20211015T135026Z
UID:35534-1633099500-1633100700@www.autarkia.info
SUMMARY:Plastik auf unseren Tellern - Was wir dagegen tun können - Florian Zach
DESCRIPTION:Wir alle essen mindestens einmal täglich. Durch den achtlosen Umgang mit der Umwelt haben sich Mikroplastik und Giftstoffe über Jahrzehnte in allen Bereichen der Erde festgesetzt und gelangen so auch auf unsere Teller. Der Vortrag zeigt auf wie einzelne Handlungen langfristige Herausforderungen erzeugen\, aber auch wie deren Wandlung zu weniger Umweltschädigung unsere Ökosysteme entlasten kann. Ziel des Vortrages ist es\, einzelne Probleme herauszustreichen\, um an deren Lösung arbeiten zu können. Die Lösungswerkzeuge werden ebenso vermittelt\, wie die Aussicht auf Veränderung. Wenn wir als Einzelne durch scheinbar kleine Handlungen die Gesellschaft in ihrem Wandel unterstützen\, erzielen wir große Erfolge.
URL:https://www.autarkia.info/event/plastik-auf-unseren-tellern-was-wir-dagegen-tun-koennen-florian-zach/
LOCATION:Erlebnis Stage für Groß und Klein
CATEGORIES:Veranstaltung
ATTACH;FMTTYPE=image/jpeg:https://www.autarkia.info/wp-content/uploads/2021/10/ploggerei-logo.jpg
END:VEVENT
END:VCALENDAR