BEGIN:VCALENDAR
VERSION:2.0
PRODID:-//Autarkia - Green World Tour - ECPv6.15.20//NONSGML v1.0//EN
CALSCALE:GREGORIAN
METHOD:PUBLISH
X-ORIGINAL-URL:https://www.autarkia.info
X-WR-CALDESC:Veranstaltungen für Autarkia - Green World Tour
REFRESH-INTERVAL;VALUE=DURATION:PT1H
X-Robots-Tag:noindex
X-PUBLISHED-TTL:PT1H
BEGIN:VTIMEZONE
TZID:Europe/Berlin
BEGIN:DAYLIGHT
TZOFFSETFROM:+0100
TZOFFSETTO:+0200
TZNAME:CEST
DTSTART:20200329T010000
END:DAYLIGHT
BEGIN:STANDARD
TZOFFSETFROM:+0200
TZOFFSETTO:+0100
TZNAME:CET
DTSTART:20201025T010000
END:STANDARD
BEGIN:DAYLIGHT
TZOFFSETFROM:+0100
TZOFFSETTO:+0200
TZNAME:CEST
DTSTART:20210328T010000
END:DAYLIGHT
BEGIN:STANDARD
TZOFFSETFROM:+0200
TZOFFSETTO:+0100
TZNAME:CET
DTSTART:20211031T010000
END:STANDARD
BEGIN:DAYLIGHT
TZOFFSETFROM:+0100
TZOFFSETTO:+0200
TZNAME:CEST
DTSTART:20220327T010000
END:DAYLIGHT
BEGIN:STANDARD
TZOFFSETFROM:+0200
TZOFFSETTO:+0100
TZNAME:CET
DTSTART:20221030T010000
END:STANDARD
END:VTIMEZONE
BEGIN:VEVENT
DTSTART;TZID=Europe/Berlin:20211009T120000
DTEND;TZID=Europe/Berlin:20211009T122000
DTSTAMP:20260426T001235
CREATED:20211004T125927Z
LAST-MODIFIED:20211007T050738Z
UID:35385-1633780800-1633782000@www.autarkia.info
SUMMARY:Plastikmüll und andere Krisen - welche Rolle spielt meine Bank? - Vanessa Müller
DESCRIPTION:Du gehst für Klimaschutz auf die Straßen\, lässt das Auto stehen und nimmst das Fahrrad oder die Bahn? Du beziehst Ökostrom und versuchst nach Möglichkeit fair\, unverpackt\, regional und biologisch einzukaufen? Doch wie steht es um das Geld auf deinem Konto? Nach welchen Regeln entscheidet deine Bank\, an welche Art von Unternehmen sie es in Form von Krediten weitergibt? Investiert sie es etwa in jedes noch so umwelt- und klimaschädliche Unternehmen? Komm vorbei und finde heraus\, was die Wahl deiner Bank mit gegenwärtigen Krisen von der Plastikverschmutzung über den Klimawandel bis hin zum Jemen-Krieg zu tun hat.
URL:https://www.autarkia.info/event/plastikmuell-und-andere-krisen-welche-rolle-spielt-meine-bank-vanessa-mueller/
LOCATION:Vortragssaal
CATEGORIES:Veranstaltung
ATTACH;FMTTYPE=image/jpeg:https://www.autarkia.info/wp-content/uploads/2021/10/facingfinance-logo.jpg
END:VEVENT
BEGIN:VEVENT
DTSTART;TZID=Europe/Berlin:20211009T123000
DTEND;TZID=Europe/Berlin:20211009T125000
DTSTAMP:20260426T001235
CREATED:20210920T125338Z
LAST-MODIFIED:20210920T125439Z
UID:35015-1633782600-1633783800@www.autarkia.info
SUMMARY:Antibiotikaresistenzen – Mensch\, Tier und Umwelt im Fokus - Claudia Jenkes
DESCRIPTION:Überall auf der Welt werden Antibiotika seit Jahrzehnten zu sorglos verschrieben und falsch angewendet. Das fördert die Entwicklung resistenter Keime. 700.000 Menschen sterben pro Jahr\, weil Antibiotika nicht mehr wirken. Das Thema ist komplex: Denn nicht nur die Humanmedizin\, auch die Tierhaltung – vor allem zur Produktion von Lebensmitteln – trägt zum massiven Verbrauch von Antibiotika bei. Regionen mit intensiver Landwirtschaft gelten als Hotspots der Resistenz-Entwicklung. Resistente Keime finden sich in Fleisch und Milchprodukten ebenso wie auf Obst und Gemüse. Mit Abwässern aus Schlachthöfen\, aus der intensiven Tierhaltung oder aus Krankenhäusern gelangen resistente Bakterien und antibiotische Rückstände nicht zuletzt in Gewässer und Böden. Die Auswirkungen auf die Umwelt sind bislang nicht absehbar. \nDer Vortrag gibt eine Einführung in die multimediale Ausstellung „Nicht zu stoppen?“\, die auf dem Messegelände gezeigt wird. Beleuchtet werden globale Gesundheitsprobleme durch resistente Erreger\, die Folgen des Antibiotika-Einsatz bei Tieren und auch die Risiken resistenter Erreger in der Umwelt.
URL:https://www.autarkia.info/event/antibiotikaresistenzen-mensch-tier-und-umwelt-im-fokus-claudia-jenkes-2/
LOCATION:Vortragssaal
CATEGORIES:Veranstaltung
ATTACH;FMTTYPE=image/jpeg:https://www.autarkia.info/wp-content/uploads/2021/08/bukopharma-logo.jpg
END:VEVENT
BEGIN:VEVENT
DTSTART;TZID=Europe/Berlin:20211009T130000
DTEND;TZID=Europe/Berlin:20211009T132000
DTSTAMP:20260426T001235
CREATED:20210921T065759Z
LAST-MODIFIED:20210921T071547Z
UID:35044-1633784400-1633785600@www.autarkia.info
SUMMARY:Satt und gesund reicht uns nicht! Nachhaltigkeit im Bachelor-Studiengang Oecotrophologie der FH Münster - Anna Wiemker
DESCRIPTION:Seit jeher strebt die Oecotrophologie danach Verbraucher*innen dazu zu befähigen\, in ihrem Alltag bewusstere und damit gesündere und nicht zuletzt nachhaltigere (Konsum-)Entscheidungen zu treffen. Weiteres zentrales Ziel ist die Gestaltung von Alltagsumgebungen sowie die Konzeption innovativer Versorgungs- und Verpflegungsdienstleistungen\, die ein gutes Leben für alle ermöglichen. Aufgrund des sukzessiv fortschreitenden Klimawandels\, dessen Folgen zunehmend die Lebensrealität unzähliger Menschen auf tragische Weise verändert\, wächst der Druck\, diese Ziele zu realisieren. Mit dem neuen Studienschwerpunkt ‚Nachhaltigkeit\, Ernährung und Management‘ an der FH Münster wird dieser Notwendigkeit Rechnung getragen. Die vielfältigen nachhaltigkeitsbezogenen Studieninhalte befähigen die Absolvent*innen\, einen ausschlaggebenden Beitrag zur Gestaltung eines ‚grünen Alltags‘ leisten zu können. Nicht zuletzt dadurch\, dass ihre potenziellen Berufs- und Tätigkeitsfelder erhebliche Hebelwirkungen im Hinblick auf eine nachhaltige Entwicklung besitzen.   \nAnna Wiemker – Wissenschaftliche Mitarbeiterin an der FH Münster\nTätigkeitsfeld: Marketing für den Schwerpunkt ‚Nachhaltigkeit\, Ernährung und Management‘ im Bachelorstudiengang Oecotrophologie
URL:https://www.autarkia.info/event/satt-und-gesund-reicht-uns-nicht-nachhaltigkeit-im-bachelor-studiengang-oecotrophologie-der-fh-muenster-anna-wiemker/
LOCATION:Vortragssaal
CATEGORIES:Veranstaltung
ATTACH;FMTTYPE=image/jpeg:https://www.autarkia.info/wp-content/uploads/2021/09/fhmuenster-logo.jpg
END:VEVENT
BEGIN:VEVENT
DTSTART;TZID=Europe/Berlin:20211009T133000
DTEND;TZID=Europe/Berlin:20211009T135000
DTSTAMP:20260426T001235
CREATED:20210701T083341Z
LAST-MODIFIED:20210702T082325Z
UID:32650-1633786200-1633787400@www.autarkia.info
SUMMARY:Die Energiewende: Eine positive Wendung für Klima und Artenschutz - Lea Oppedisano
DESCRIPTION:Die verstärkte Nutzung von Energie aus erneuerbaren Quellen wie der Windenergie\, der Wasserkraft oder der Bioenergie ist von entscheidender Bedeutung: Sie begrenzen die Folgen des Klimawandels\, schützen die Umwelt und erhalten damit die Artenvielfalt. Die Energiewende ist unverzichtbar für den Klimaschutz und damit auch für den Artenschutz: Wirken wir der Erderwärmung nicht schnellstmöglich entgegen\, wird das massive globale und lokale Artensterben von rund der Hälfte des heutigen Artbestandes nicht mehr aufzuhalten sein. Die Erneuerbare-Energien-Branche unternimmt dank des zunehmenden Erkenntnisgewinns bereits jetzt viel\, um die Verträglichkeit von Energiegewinnung und Artenschutz weiter zu verbessern. Zum einen wird im Rahmen dieses Vortrags ein Überblick über die Vielfalt an konfliktlösenden Methoden und Maßnahmen gegeben\, zum anderen wird die Frage beantwortet\, was alles von der Planung hin zum Bau von Erneuerbare-Energien-Anlagen artenschutzfachliche Beachtung findet.
URL:https://www.autarkia.info/event/die-energiewende-eine-positive-wendung-fuer-klima-und-artenschutz-lea-oppedisano/
LOCATION:Vortragssaal
CATEGORIES:Veranstaltung
ATTACH;FMTTYPE=image/jpeg:https://www.autarkia.info/wp-content/uploads/2021/07/leenrw-logo.jpg
END:VEVENT
BEGIN:VEVENT
DTSTART;TZID=Europe/Berlin:20211009T143000
DTEND;TZID=Europe/Berlin:20211009T145000
DTSTAMP:20260426T001235
CREATED:20210929T122439Z
LAST-MODIFIED:20210929T123952Z
UID:35330-1633789800-1633791000@www.autarkia.info
SUMMARY:Das Tree 4 Life eG - Projekt - Volker Janssen
DESCRIPTION:
URL:https://www.autarkia.info/event/das-tree-4-life-eg-projekt-volker-janssen/
LOCATION:Vortragssaal
CATEGORIES:Veranstaltung
ATTACH;FMTTYPE=image/jpeg:https://www.autarkia.info/wp-content/uploads/2021/09/t4l-logo.jpg
END:VEVENT
BEGIN:VEVENT
DTSTART;TZID=Europe/Berlin:20211009T150000
DTEND;TZID=Europe/Berlin:20211009T152000
DTSTAMP:20260426T001235
CREATED:20200228T073009Z
LAST-MODIFIED:20210920T130915Z
UID:22801-1633791600-1633792800@www.autarkia.info
SUMMARY:Steck die Sonne ein! - Einfach selbst Strom erzeugen - Thomas Weber
DESCRIPTION:Mit Stecker-Solargeräten können auch Mieter und Wohnungseigentümer eigenen Sonnenstrom erzeugen. Dabei gibt es einige Themen\, auf die Sie achten sollten. \nIm Vortrag beschäftigen wir uns mit folgenden Themen: \n\nAuch als Mieter können Sie auf dem Balkon oder der Terrasse selbst Solarstrom erzeugen und im Haushalt verbrauchen.\nStecker-Solargeräte produzieren Strom für den Eigenbedarf\, sind aber nicht für die Netzeinspeisung gedacht.\nDie Balkon-Modulsysteme sind sicher und lohnen sich langfristig betrachtet auch finanziell.\n\nEinige Regeln und Anforderungen sind noch unnötig kompliziert\, davon sollten Sie sich aber nicht abschrecken lassen.
URL:https://www.autarkia.info/event/steck-die-sonne-ein-einfach-selbst-strom-erzeugen-thomas-weber/
LOCATION:Vortragssaal
CATEGORIES:Veranstaltung
ATTACH;FMTTYPE=image/jpeg:https://www.autarkia.info/wp-content/uploads/2019/09/picture.jpg
END:VEVENT
BEGIN:VEVENT
DTSTART;TZID=Europe/Berlin:20211009T153000
DTEND;TZID=Europe/Berlin:20211009T155000
DTSTAMP:20260426T001235
CREATED:20210921T071622Z
LAST-MODIFIED:20210921T071900Z
UID:35047-1633793400-1633794600@www.autarkia.info
SUMMARY:Was ist dran an ‚Unverpackt‘? - Annika von der Ley
DESCRIPTION:Ob im Supermarkt oder im Unverpacktladen – Verbraucher können sich für den Kauf unverpackter Produkte entscheiden. Doch was ist dran an ‚Unverpackt‘? Mit welchen Visionen\, Möglichkeiten und Hürden setzt sich die Lebensmittelbranche tag täglich auseinander\, um dem Verbraucher unverpackte Produkte anbieten zu können\, und mit welchem Mehrwert? Im Vortrag werden die Zuhörer eingeladen\, einen Blick hinter die unverpackten Kulissen zu werfen und die Dimension der Unverpackt-Bewegung kennenzulernen.  \nAnnika von der Ley\, Bachelor-Absolventin der FH Münster
URL:https://www.autarkia.info/event/was-ist-dran-an-unverpackt-annika-von-der-ley/
LOCATION:Vortragssaal
CATEGORIES:Veranstaltung
ATTACH;FMTTYPE=image/jpeg:https://www.autarkia.info/wp-content/uploads/2021/09/fhmuenster-logo.jpg
END:VEVENT
BEGIN:VEVENT
DTSTART;TZID=Europe/Berlin:20211009T160000
DTEND;TZID=Europe/Berlin:20211009T162000
DTSTAMP:20260426T001235
CREATED:20210907T081401Z
LAST-MODIFIED:20210907T082919Z
UID:34148-1633795200-1633796400@www.autarkia.info
SUMMARY:Lehm - Renaissance eines Baustoffs - Manfred Röwekamp
DESCRIPTION:Lehm wird seit Jahrhunderten von Menschen als Baustoff verwendet. Seit einigen Jahrzehnten erlebt er eine Renaissance und findet zunehmend Verwendung in der modernen Architektur. Lehm als Baustoff hat unschlagbare Eigenschaften\, ist unendlich vorhanden und kreislauffähig. Der Vortrag informiert über die Alleinstellungsmerkmale und gibt praktische Anwendungsbeispiele. Die Teilnehmer können vor Ort vielfältige Muster in Augenschein nehmen. \nReferent : Manfred Röwekamp\nRöwekamp & Stumpe / Tischlerei Meisterbetrieb\, Telgte\nMitglied Ökobau Münsterland e.V.
URL:https://www.autarkia.info/event/lehm-renaissance-eines-baustoffs-manfred-roewekamp/
LOCATION:Vortragssaal
CATEGORIES:Veranstaltung
ATTACH;FMTTYPE=image/jpeg:https://www.autarkia.info/wp-content/uploads/2021/09/oekobaunetzwerkms-logo-1.jpg
END:VEVENT
BEGIN:VEVENT
DTSTART;TZID=Europe/Berlin:20211009T163000
DTEND;TZID=Europe/Berlin:20211009T165000
DTSTAMP:20260426T001235
CREATED:20211004T072510Z
LAST-MODIFIED:20211004T081145Z
UID:35361-1633797000-1633798200@www.autarkia.info
SUMMARY:Rettet das Essen! - Lebensmittel wertschätzen mit der fairTEiLBAR - Jana Gowitzke
DESCRIPTION:
URL:https://www.autarkia.info/event/rettet-das-essen-lebensmittel-wertschaetzen-mit-der-fairteilbar-jana-gowitzke/
LOCATION:Vortragssaal
CATEGORIES:Veranstaltung
ATTACH;FMTTYPE=image/jpeg:https://www.autarkia.info/wp-content/uploads/2021/10/fairteilbar-logo.jpg
END:VEVENT
BEGIN:VEVENT
DTSTART;TZID=Europe/Berlin:20211009T173000
DTEND;TZID=Europe/Berlin:20211009T175000
DTSTAMP:20260426T001235
CREATED:20210824T083924Z
LAST-MODIFIED:20210824T084015Z
UID:33725-1633800600-1633801800@www.autarkia.info
SUMMARY:Ganzheitlich nachhaltig – wie dein Lebensstil das Klima rettet - Christina Christiansen
DESCRIPTION:Was sind die wirklichen Ursachen des Klimawandels? Sind Verbote und Einschränkungen der richtige Weg zur Abmilderung? Wie hängen unsere Gesundheit und die unseres Planeten zusammen? Antworten hierauf erfährst du im Vortrag der Klimaexpertin Christina Christiansen: informativ\, interaktiv und inspirierend. Durch die Kombination von Verhaltensökonomik und Persönlichkeitsentwicklung schafft sie eine neue\, innovative Herangehensweise an die Lösung unseres globalen Problems.
URL:https://www.autarkia.info/event/ganzheitlich-nachhaltig-wie-dein-lebensstil-das-klima-rettet-christina-christiansen-4/
LOCATION:Vortragssaal
CATEGORIES:Veranstaltung
ATTACH;FMTTYPE=image/jpeg:https://www.autarkia.info/wp-content/uploads/2021/08/christiansen-logo.jpg
END:VEVENT
END:VCALENDAR