BEGIN:VCALENDAR
VERSION:2.0
PRODID:-//Autarkia - Green World Tour - ECPv6.15.20//NONSGML v1.0//EN
CALSCALE:GREGORIAN
METHOD:PUBLISH
X-ORIGINAL-URL:https://www.autarkia.info
X-WR-CALDESC:Veranstaltungen für Autarkia - Green World Tour
REFRESH-INTERVAL;VALUE=DURATION:PT1H
X-Robots-Tag:noindex
X-PUBLISHED-TTL:PT1H
BEGIN:VTIMEZONE
TZID:Europe/Berlin
BEGIN:DAYLIGHT
TZOFFSETFROM:+0100
TZOFFSETTO:+0200
TZNAME:CEST
DTSTART:20200329T010000
END:DAYLIGHT
BEGIN:STANDARD
TZOFFSETFROM:+0200
TZOFFSETTO:+0100
TZNAME:CET
DTSTART:20201025T010000
END:STANDARD
BEGIN:DAYLIGHT
TZOFFSETFROM:+0100
TZOFFSETTO:+0200
TZNAME:CEST
DTSTART:20210328T010000
END:DAYLIGHT
BEGIN:STANDARD
TZOFFSETFROM:+0200
TZOFFSETTO:+0100
TZNAME:CET
DTSTART:20211031T010000
END:STANDARD
BEGIN:DAYLIGHT
TZOFFSETFROM:+0100
TZOFFSETTO:+0200
TZNAME:CEST
DTSTART:20220327T010000
END:DAYLIGHT
BEGIN:STANDARD
TZOFFSETFROM:+0200
TZOFFSETTO:+0100
TZNAME:CET
DTSTART:20221030T010000
END:STANDARD
END:VTIMEZONE
BEGIN:VEVENT
DTSTART;TZID=Europe/Berlin:20211010T120000
DTEND;TZID=Europe/Berlin:20211010T122000
DTSTAMP:20260426T020523
CREATED:20211004T132427Z
LAST-MODIFIED:20211005T064243Z
UID:35391-1633867200-1633868400@www.autarkia.info
SUMMARY:foodsharing - Verwenden statt Verschwenden - Annette Graf
DESCRIPTION:Allein in Deutschland landen jährlich 12 Millionen Tonnen Lebensmittel in der Tonne statt auf dem Teller. Das muss nicht sein! Gemeinsam wollen wir betrachten\, wo und weshalb Lebensmittel weggeworfen werden und vor allem\, was jede*r einzelne von uns dagegen tun kann. Es wird sowohl Praxistipps für Menschen\, die Kleinigkeiten im Alltag verändern wollen\, als auch für Menschen\, die nach einem neuen Ehrenamt suchen\, geben. 
URL:https://www.autarkia.info/event/foodsharing-verwenden-statt-verschwenden-annette-graf/
LOCATION:Vortragssaal
CATEGORIES:Veranstaltung
ATTACH;FMTTYPE=image/png:https://www.autarkia.info/wp-content/uploads/2019/11/foodsharing_logo.png
END:VEVENT
BEGIN:VEVENT
DTSTART;TZID=Europe/Berlin:20211010T123000
DTEND;TZID=Europe/Berlin:20211010T125000
DTSTAMP:20260426T020523
CREATED:20210824T092046Z
LAST-MODIFIED:20210824T092135Z
UID:33754-1633869000-1633870200@www.autarkia.info
SUMMARY:Ganzheitlich nachhaltig – wie dein Lebensstil das Klima rettet - Christina Christiansen
DESCRIPTION:Was sind die wirklichen Ursachen des Klimawandels? Sind Verbote und Einschränkungen der richtige Weg zur Abmilderung? Wie hängen unsere Gesundheit und die unseres Planeten zusammen? Antworten hierauf erfährst du im Vortrag der Klimaexpertin Christina Christiansen: informativ\, interaktiv und inspirierend. Durch die Kombination von Verhaltensökonomik und Persönlichkeitsentwicklung schafft sie eine neue\, innovative Herangehensweise an die Lösung unseres globalen Problems.
URL:https://www.autarkia.info/event/ganzheitlich-nachhaltig-wie-dein-lebensstil-das-klima-rettet-christina-christiansen-7/
LOCATION:Vortragssaal
CATEGORIES:Veranstaltung
ATTACH;FMTTYPE=image/jpeg:https://www.autarkia.info/wp-content/uploads/2021/08/christiansen-logo.jpg
END:VEVENT
BEGIN:VEVENT
DTSTART;TZID=Europe/Berlin:20211010T130000
DTEND;TZID=Europe/Berlin:20211010T132000
DTSTAMP:20260426T020523
CREATED:20210920T131140Z
LAST-MODIFIED:20210921T072225Z
UID:35019-1633870800-1633872000@www.autarkia.info
SUMMARY:Lebensmittelabfälle – Potenziale für die Zukunft - Vanessa Baur
DESCRIPTION:Rund ein Drittel aller produzierten Lebensmittel landen vorzeitig im Abfall. In Anbetracht der steigenden Weltbevölkerung sind zukünftig noch mehr Lebensmittel zu produzieren als derzeitig\, doch die Ackerflächen bleiben begrenzt. In Lebensmittelabfällen verweilen viele Nährstoffe und funktionale Inhaltsstoffe ungenutzt. Was wäre\, wenn man Lebensmittelabfälle nachder Auslagerung zurück in den Kreislauf der menschlichen Nahrung bringen könnte? Bei diesem Vortrag werden Ihnen die Chancen und Hürden auf dem Weg zu einer nachhaltigen Lebensmittelversorgung unter Nutzung von ausrangierten Lebensmitteln aufgezeigt. \nVanessa Baur\, Absolventin der FH Münster
URL:https://www.autarkia.info/event/lebensmittelabfaelle-potenziale-fuer-die-zukunft-vanessa-baur/
LOCATION:Vortragssaal
CATEGORIES:Veranstaltung
ATTACH;FMTTYPE=image/jpeg:https://www.autarkia.info/wp-content/uploads/2021/09/fhmuenster-logo.jpg
END:VEVENT
BEGIN:VEVENT
DTSTART;TZID=Europe/Berlin:20211010T133000
DTEND;TZID=Europe/Berlin:20211010T135000
DTSTAMP:20260426T020523
CREATED:20211004T135845Z
LAST-MODIFIED:20211006T182759Z
UID:35394-1633872600-1633873800@www.autarkia.info
SUMMARY:Vertikalbegrünung von Gebäuden - Norbert Marx
DESCRIPTION:Impulsvortrag mit Beispielen zur Wandbegrünung. Benefit\, Biodiversität\, Gestaltungsauswirkungen\, Pflanzengruppen\, Rankhilfen\, Schadensvermeidung\, Platzbedarf\, Unterhaltungsaufwand\, Ausblicke \nReferent: Norbert Marx \, Bauingenieur\, Baubiologe\, Effizienzhausplaner \, Mitglied Ökobau Münsterland e.V.
URL:https://www.autarkia.info/event/vertikalbegruenung-von-gebaeuden-norbert-marx/
LOCATION:Vortragssaal
CATEGORIES:Veranstaltung
ATTACH;FMTTYPE=image/jpeg:https://www.autarkia.info/wp-content/uploads/2021/10/oekobaunetzwerkms-logo.jpg
END:VEVENT
BEGIN:VEVENT
DTSTART;TZID=Europe/Berlin:20211010T150000
DTEND;TZID=Europe/Berlin:20211010T152000
DTSTAMP:20260426T020523
CREATED:20210901T074337Z
LAST-MODIFIED:20211006T100809Z
UID:34054-1633878000-1633879200@www.autarkia.info
SUMMARY:Wie kann Smart Farming zu einer nachhaltigen Lebensmittelproduktion beitragen und wozu braucht es hierbei Normen und Standards? - Johannes Lehmann und Amelie Leipprand
DESCRIPTION:
URL:https://www.autarkia.info/event/wie-kann-smart-farming-zu-einer-nachhaltigen-lebensmittelproduktion-beitragen-und-wozu-braucht-es-hierbei-normen-und-standards-johannes-lehmann-und-amelie-leipprand/
LOCATION:Vortragssaal
CATEGORIES:Veranstaltung
ATTACH;FMTTYPE=image/jpeg:https://www.autarkia.info/wp-content/uploads/2021/09/din-logo.jpg
ORGANIZER;CN="DIN Deutsches Institut f%C3%BCr Normung e.V.":MAILTO:amelie.leipprand@din.de
END:VEVENT
BEGIN:VEVENT
DTSTART;TZID=Europe/Berlin:20211010T153000
DTEND;TZID=Europe/Berlin:20211010T155000
DTSTAMP:20260426T020523
CREATED:20210907T070520Z
LAST-MODIFIED:20210907T083457Z
UID:34139-1633879800-1633881000@www.autarkia.info
SUMMARY:Heute ist doch alles Öko ?? Wie erkenne ich "echte Naturfarben"? - Manfred Röwekamp
DESCRIPTION:Gerade in den letzten Jahren hat das Thema Nachhaltigkeit überall Einzug gehalten. Im Zuge des Klimawandels sind Verbraucher immer stärker interessiert an ökologischen bzw. nachhaltigen Produkten. Kaum ein Hersteller kann sich leisten\, diesen “Megatrend” zu ignorieren. Am Beispiel Wandfarben erläutert der Referent\, worauf man als Laie achten sollte und wo greenwashing droht. Es gibt Tipps\, wie ein bauökologisch gesundes Zuhause gestaltet werden kann. Vor Ort können Muster und Ausführungen angeschaut werden. \nReferent : Manfred Röwekamp\nRöwekamp & Stumpe / Tischlerei Meisterbetrieb\, Telgte\nMitglied Ökobau Münsterland e.V.
URL:https://www.autarkia.info/event/heute-ist-doch-alles-oeko-wie-erkenne-ich-echte-naturfarben-manfred-roewekamp/
LOCATION:Vortragssaal
CATEGORIES:Veranstaltung
ATTACH;FMTTYPE=image/jpeg:https://www.autarkia.info/wp-content/uploads/2021/09/oekobaunetzwerkms-logo-1.jpg
END:VEVENT
BEGIN:VEVENT
DTSTART;TZID=Europe/Berlin:20211010T160000
DTEND;TZID=Europe/Berlin:20211010T162000
DTSTAMP:20260426T020523
CREATED:20210907T063130Z
LAST-MODIFIED:20211001T141938Z
UID:34136-1633881600-1633882800@www.autarkia.info
SUMMARY:Soziales Engagement für Unentschlossene – Eine Vorstellung der Ingenieure ohne Grenzen und weiterer ehrenamtlicher Organisationen“ - Till Olligschläger
DESCRIPTION:Als Mitglieder der Ingenieure ohne Grenzen arbeiten wir regelmäßig in unserer Freizeit an Infrastrukturprojekten in der ganzen Welt. Welche Erfahrungen machen wir dabei in unserem Verein? Was treibt Leute dazu umsonst zu arbeiten? Dieser Vortrag handelt von den guten wie schlechten Seiten des Ehrenamtes und soll zum Engagement motivieren\, sowie Möglichkeiten zur Mithilfe in der eigenen Umgebung aufzeigen.
URL:https://www.autarkia.info/event/soziales-engagement-fuer-unentschlossene-eine-vorstellung-der-ingenieure-ohne-grenzen-und-weiterer-ehrenamtlicher-organisationen-till-olligschlaeger/
LOCATION:Vortragssaal
CATEGORIES:Veranstaltung
ATTACH;FMTTYPE=image/png:https://www.autarkia.info/wp-content/uploads/2020/09/Ingenieure_ohne_Grenzen_Logo.png
END:VEVENT
BEGIN:VEVENT
DTSTART;TZID=Europe/Berlin:20211010T170000
DTEND;TZID=Europe/Berlin:20211010T172000
DTSTAMP:20260426T020523
CREATED:20210907T062059Z
LAST-MODIFIED:20210907T062130Z
UID:34130-1633885200-1633886400@www.autarkia.info
SUMMARY:Die EinDollarBrille - Hilfe zur Selbsthilfe für 150 Mio. Menschen - Norbert Richter
DESCRIPTION:Millionen von Menschen auf der Welt bräuchten eine Brille\, können sich aber keine leisten. Sie warten seit Jahren oder Jahrzehnten auf die Versorgung mit Brillen\, weil es zu wenige ausgebildete Spezialisten gibt und weil deren Brillen für sie zu teuer sind. Kinder können nicht lernen\, Erwachsene können nicht arbeiten und für ihre Familien sorgen. \nWir möchten das ändern mit aktiver Hilfe zur Selbsthilfe
URL:https://www.autarkia.info/event/die-eindollarbrille-hilfe-zur-selbsthilfe-fuer-150-mio-menschen-norbert-richter-2/
LOCATION:Vortragssaal
CATEGORIES:Veranstaltung
ATTACH;FMTTYPE=image/jpeg:https://www.autarkia.info/wp-content/uploads/2019/09/eindollarbrille_logo-scaled.jpg
END:VEVENT
END:VCALENDAR