BEGIN:VCALENDAR
VERSION:2.0
PRODID:-//Autarkia - Green World Tour - ECPv6.15.20//NONSGML v1.0//EN
CALSCALE:GREGORIAN
METHOD:PUBLISH
X-ORIGINAL-URL:https://www.autarkia.info
X-WR-CALDESC:Veranstaltungen für Autarkia - Green World Tour
REFRESH-INTERVAL;VALUE=DURATION:PT1H
X-Robots-Tag:noindex
X-PUBLISHED-TTL:PT1H
BEGIN:VTIMEZONE
TZID:Europe/Berlin
BEGIN:DAYLIGHT
TZOFFSETFROM:+0100
TZOFFSETTO:+0200
TZNAME:CEST
DTSTART:20200329T010000
END:DAYLIGHT
BEGIN:STANDARD
TZOFFSETFROM:+0200
TZOFFSETTO:+0100
TZNAME:CET
DTSTART:20201025T010000
END:STANDARD
BEGIN:DAYLIGHT
TZOFFSETFROM:+0100
TZOFFSETTO:+0200
TZNAME:CEST
DTSTART:20210328T010000
END:DAYLIGHT
BEGIN:STANDARD
TZOFFSETFROM:+0200
TZOFFSETTO:+0100
TZNAME:CET
DTSTART:20211031T010000
END:STANDARD
BEGIN:DAYLIGHT
TZOFFSETFROM:+0100
TZOFFSETTO:+0200
TZNAME:CEST
DTSTART:20220327T010000
END:DAYLIGHT
BEGIN:STANDARD
TZOFFSETFROM:+0200
TZOFFSETTO:+0100
TZNAME:CET
DTSTART:20221030T010000
END:STANDARD
END:VTIMEZONE
BEGIN:VEVENT
DTSTART;TZID=Europe/Berlin:20211016T114500
DTEND;TZID=Europe/Berlin:20211016T120500
DTSTAMP:20260426T055556
CREATED:20211007T125649Z
LAST-MODIFIED:20211008T081614Z
UID:35474-1634384700-1634385900@www.autarkia.info
SUMMARY:Sonnenstrom – Das Gold des 21. Jahrhunderts - Martin Hauder
DESCRIPTION:Die Sun Contracting AG setzt die richtigen Schritte für den Ausbau der erneuerbaren Energie in Europa. Mit ihrem Contracting Modell werden ungenutzte Dächer und Flächen zum Solarstromkraftwerk. Mit den Sun Contracting Bonds bietet sie nachhaltige Investmentprodukte\, die die saubere Energiezukunft und die wirtschaftlich effiziente Nutzung von Solarenergie unterstützen. \nVortragender: Herr Martin Hauder\, Sun Contracting AG auf Einladung von Mag. Peter Arlits\, Globalfinanz
URL:https://www.autarkia.info/event/sonnenstrom-das-gold-des-21-jahrhunderts-martin-hauder/
LOCATION:Erlebnis Stage für Groß und Klein
CATEGORIES:Veranstaltung
ATTACH;FMTTYPE=image/jpeg:https://www.autarkia.info/wp-content/uploads/2021/10/cf-sc-logos.jpg
END:VEVENT
BEGIN:VEVENT
DTSTART;TZID=Europe/Berlin:20211016T120000
DTEND;TZID=Europe/Berlin:20211016T122000
DTSTAMP:20260426T055556
CREATED:20211006T184114Z
LAST-MODIFIED:20211006T184624Z
UID:35449-1634385600-1634386800@www.autarkia.info
SUMMARY:Eine Algenfarm mitten in Niederösterreich: Spirulix macht Landwirtschaft grün! - Dominik Kasper
DESCRIPTION:Was wir konsumieren\, ist schon lange nicht mehr egal. 30% der Treibhausgasemissionen entstammen aus der Ernährung\, der überwiegende Anteil entfällt dabei auf Produktion & Herkunft von Lebensmitteln. Daher sollte das Thema Nachhaltigkeit auch in der Landwirtschaft eine große Rolle spielen – tut sie aber leider nur zu selten. Wie es besser geht\, zeigt Spirulix mit einem ungewöhnlichen Ansatz: einer Algenfarm mitten in Niederösterreich. Kein CO2-Ausstoß\, weniger Wasserverbrauch und keinerlei Verschwendung von Ressourcen dank Kreislaufwirtschaft – wie mit einem Superfood wie Spirulina nachhaltigeres Leben gelingt\, erfahrt ihr in diesem Vortrag. \nReferent: Dominik Kasper\, Head of Marketing bei Spirulix
URL:https://www.autarkia.info/event/eine-algenfarm-mitten-in-niederoesterreich-spirulix-macht-landwirtschaft-gruen-dominik-kasper/
LOCATION:Vortragssaal
CATEGORIES:Veranstaltung
ATTACH;FMTTYPE=image/jpeg:https://www.autarkia.info/wp-content/uploads/2021/10/spirulix-logo.jpg
END:VEVENT
BEGIN:VEVENT
DTSTART;TZID=Europe/Berlin:20211016T123000
DTEND;TZID=Europe/Berlin:20211016T125000
DTSTAMP:20260426T055556
CREATED:20210831T092044Z
LAST-MODIFIED:20211012T073057Z
UID:34014-1634387400-1634388600@www.autarkia.info
SUMMARY:Nachhaltiges Unternehmertum - nachhaltige Innovation - Antonia Bartning
DESCRIPTION:Nachhaltig Gründen – wie geht das? Wie finde ich eine Idee? In diesem spielerisch interaktiven Vortrag erhaltet ihr erste Einblicke in die Thematik und lernt eine Methode zur Ideenfindung kennen. \nDie Referentin Antonia Bartning hat nachhaltige Unternehmensführung und Wirtschaftskommunikation studiert. Gemeinsam mit ihrer Geschäftspartnerin Caroline Frumert\, gründete sie die systainchange GbR (pitchyourgreenidea.de) mit der sie Spiele und Seminare im Themenfeld Nachhaltigkeit entwickelt und vertreibt.
URL:https://www.autarkia.info/event/nachhaltiges-unternehmertum-nachhaltige-innovation-antonia-bartning/
LOCATION:Vortragssaal
CATEGORIES:Veranstaltung
ATTACH;FMTTYPE=image/jpeg:https://www.autarkia.info/wp-content/uploads/2021/08/systainchange-logo.jpg
END:VEVENT
BEGIN:VEVENT
DTSTART;TZID=Europe/Berlin:20211016T124500
DTEND;TZID=Europe/Berlin:20211016T130500
DTSTAMP:20260426T055556
CREATED:20211012T065606Z
LAST-MODIFIED:20211012T070311Z
UID:35520-1634388300-1634389500@www.autarkia.info
SUMMARY:fairafric - Wie ein Unternehmen die Schokoladenwelt revolutioniert - Elisabeth Karg
DESCRIPTION:In diesem Vortrag werden wir uns genauer die Chancen und Probleme ansehen\, die eine Produktion in Ghana mit sich bringt. Insbesondere der Bau einer Schokoladenfabrik in Zeiten einer Pandemie wird ein zentrales Thema sein\, aber auch die Geschichte fairafrics von ihren Anfängen bis hin zum heutigen Erfolg. \nReferent: Elisabeth Karg\, Sales Management fairafric AG
URL:https://www.autarkia.info/event/fairafric-wie-ein-unternehmen-die-schokoladenwelt-revolutioniert-elisabeth-karg/
LOCATION:Erlebnis Stage für Groß und Klein
CATEGORIES:Veranstaltung
ATTACH;FMTTYPE=image/png:https://www.autarkia.info/wp-content/uploads/2021/10/fairafric-logo.png
END:VEVENT
BEGIN:VEVENT
DTSTART;TZID=Europe/Berlin:20211016T134500
DTEND;TZID=Europe/Berlin:20211016T140500
DTSTAMP:20260426T055556
CREATED:20211012T070947Z
LAST-MODIFIED:20211012T085539Z
UID:35527-1634391900-1634393100@www.autarkia.info
SUMMARY:Empowerment - Verantwortung jedes Individuums zur Plastikreduktion - Stella Wittmann
DESCRIPTION:Wie schädlich ist Plastik für unsere Umwelt. Was können wir in Österreich dagegen tun? Und was tut der Verein Plastic Planet Austria dagegen? Diese und viele andere Fragen rund um das Thema Plastik und Nachhaltigkeit werden hier geklärt.  
URL:https://www.autarkia.info/event/empowerment-verantwortung-jedes-individuums-zur-plastikreduktion-stella-wittmann/
LOCATION:Erlebnis Stage für Groß und Klein
CATEGORIES:Veranstaltung
ATTACH;FMTTYPE=image/jpeg:https://www.autarkia.info/wp-content/uploads/2021/10/vppaustria-logo.jpg
END:VEVENT
BEGIN:VEVENT
DTSTART;TZID=Europe/Berlin:20211016T141500
DTEND;TZID=Europe/Berlin:20211016T143500
DTSTAMP:20260426T055556
CREATED:20211012T120611Z
LAST-MODIFIED:20211015T113351Z
UID:35784-1634393700-1634394900@www.autarkia.info
SUMMARY:Vergessenes Urkorn wieder zurück in die Küche - Sandra Flammer
DESCRIPTION:Kannst du es fühlen – das leise Sterben der Biodiversität am Acker und in der Küche? Laut Intergovernmental Platform on Biodiversity and Ecosystem Services (IPBES) sind von den geschätzten acht Millionen Tier- und Pflanzenarten rund eine Million vom Aussterben bedroht\, viele davon bereits in den nächsten Jahrzehnten. \nDer Wunsch nach einem Wertewandel wird stärker\, und das muss auch so sein! Wir müssen jetzt aktiv werden\, um die Biodiversität zu erhalten das kommt der Umwelt\, dir selbst und auch zukünftigen Generationen zugute! \nWir von KORNELIA haben eine klare Vision\, wie eine faire\, gesunde und bunte Landwirtschaft aussehen soll. Gemeinsam mit unseren KORNELIA-Landwirten stehen wir für Transparenz bei regionalen\, gesunden und hochwertigen Lebensmitteln ein! Werde Teil der Urkorn-Revolution! \nMit Kornelia für das Comeback ursprünglicher Sorten! \nReferent: Sandra Flammer von Kornelia Urkorn GmbH
URL:https://www.autarkia.info/event/vergessenes-urkorn-wieder-zurueck-in-die-kueche-sandra-flammer/
LOCATION:Erlebnis Stage für Groß und Klein
CATEGORIES:Veranstaltung
ATTACH;FMTTYPE=image/jpeg:https://www.autarkia.info/wp-content/uploads/2021/10/korn-logo.jpg
END:VEVENT
BEGIN:VEVENT
DTSTART;TZID=Europe/Berlin:20211016T143000
DTEND;TZID=Europe/Berlin:20211016T145000
DTSTAMP:20260426T055556
CREATED:20211007T091715Z
LAST-MODIFIED:20211011T075842Z
UID:35462-1634394600-1634395800@www.autarkia.info
SUMMARY:Klein gegen Groß\, Nachhaltigkeit: ein gemeinsames Ziel. - Alain Bauwens
DESCRIPTION:Eine nachhaltige Marke im Wasch- und Putzmittelmarkt aufzubauen\, wo Multinationals das Sagen haben\, ist eine große Herausforderung. Mit welchen Problemen sind wir konfrontiert und welche Chancen haben wir\, um trotzdem erfolgreich zu werden? Ich teile hier gerne meine Erfahrungen aus der Sicht von Planet Pure. \nReferent: Alain Bauwens\, CEO Planet Pure GmbH
URL:https://www.autarkia.info/event/klein-gegen-gross-nachhaltigkeit-ein-gemeinsames-ziel-alain-bauwens/
LOCATION:Vortragssaal
CATEGORIES:Veranstaltung
ATTACH;FMTTYPE=image/jpeg:https://www.autarkia.info/wp-content/uploads/2021/10/planetpure-logo.jpg
END:VEVENT
BEGIN:VEVENT
DTSTART;TZID=Europe/Berlin:20211016T151500
DTEND;TZID=Europe/Berlin:20211016T153500
DTSTAMP:20260426T055556
CREATED:20200210T114152Z
LAST-MODIFIED:20211006T185604Z
UID:22301-1634397300-1634398500@www.autarkia.info
SUMMARY:CSR-Wirtschaftliche Verantwortung nachhaltig erfolgreich gestalten. Wie gelingt dieser Wandel in der Wirtschaft? - Katja Hofmann & Peter Kaiser
DESCRIPTION:Erlebe in dem Vortrag\, wie Unternehmen und Organisationen die haptische Planungs- und Workshopmethode CORE einsetzen und ihre individuelle Nachhaltigkeitsstrategie erfolgreich im Team (weiter-)entwickeln. Das Besondere am CSR Planer ist\, dass dies ohne CSR Vorkenntnisse der Teilnehmer\, umsetzbar ist und dies vor allem mit viel Freude und messbarem Erfolg. Zudem erhältst du einen ersten Einblick in das zukunftsweisendes Green Franchise\, als CORE CSR Berater\, das mehr als eine berufliche Perspektive für dich bietet. Der CSR Planer wurde in Zusammenarbeit mit Hochschulen entwickelt und bietet in neun Schritten Lösungen und Wege\, um unsere Wirtschaftswelt nachhaltig erfolgreich zu gestalten.   \nReferenten: Katja Hofmann\, Peter Kaiser der KMU – kreative Marketingunterstützung und Entwickler des CSR Planers. Für ihre Arbeit wurde KMU schon mehrfach ausgezeichnet z. B. beim Mittelstandsprogramm „Erfolg durch Innovation“\, als Top Consultant/CSR Berater\, beim Lea Mittelstandspreis für soziales Engagement.
URL:https://www.autarkia.info/event/csr-wirtschaftliche-verantwortung-nachhaltig-erfolgreich-gestalten-wie-gelingt-dieser-wandel-in-der-wirtschaft-katja-hofmann-peter-kaiser/
LOCATION:Erlebnis Stage für Groß und Klein
CATEGORIES:Veranstaltung
ATTACH;FMTTYPE=image/png:https://www.autarkia.info/wp-content/uploads/2020/01/kmu_logo-1.png
END:VEVENT
BEGIN:VEVENT
DTSTART;TZID=Europe/Berlin:20211016T154500
DTEND;TZID=Europe/Berlin:20211016T160500
DTSTAMP:20260426T055556
CREATED:20210803T105043Z
LAST-MODIFIED:20210804T080135Z
UID:33364-1634399100-1634400300@www.autarkia.info
SUMMARY:Die Biographie der ADAMAH BioProdukte – Beiträge zu einer nachhaltigen Welt - Gerhard Zoubek
DESCRIPTION:Nachhaltigkeit wird am ADAMAH BioHof im Marchfeld\, der Kornkammer Österreichs\, seit der Gründung 1997 auf allen Äckern und in allen Verarbeitungsstufen gelebt. Die Nachhaltigkeit war vor 20 Jahren wenig bekannt. Den Gründern des ADAMAH BioHofs – Gerhard und Sigrid Zoubek – war es jedoch ein Anliegen\, Mensch und Natur mit Respekt und Wertschätzung zu begegnen. Sie wollten eine Produktion von Lebensmitteln\, die Ressourcen schont und enkeltauglich ist. Sie wollten Werte und Tradition einer naturnahen Wirtschafts- und Lebensweise leben\, ihren Kunden biologische Produkte und mit gesunden Rezepten hergestellte Lebensmittel anbieten. In seinem Vortrag gibt der Gründer Gerhard Zoubek einen Einblick in das Herzstück\, die BioLandwirtschaft. Er erzählt\, wie der Betrieb von Beginn an auf einen ökologischen Weg geführt wurde. Zoubek berichtet anschaulich aus seinem Leben und Arbeiten\, wie es gelungen ist\, dieses Familienunternehmen auf Zukunftskurs zu bringen. Dieser Kurs orientiert sich schon heute an der Gemeinwohlökonomie und ist ein Beitrag zu einer nachhaltigen Gesellschaft.
URL:https://www.autarkia.info/event/bioprodukte-mit-biographie-das-adamah-biokistl-als-beitrag-zu-einer-nachhaltigeren-gesellschaft-gerhard-zoubek/
LOCATION:Erlebnis Stage für Groß und Klein
CATEGORIES:Veranstaltung
ATTACH;FMTTYPE=image/png:https://www.autarkia.info/wp-content/uploads/2018/08/Adamah_Kopie_320x180.png
END:VEVENT
END:VCALENDAR